BEGIN:VCALENDAR
VERSION:2.0
PRODID:-//ChamberMaster//Event Calendar 2.0//EN
METHOD:PUBLISH
X-PUBLISHED-TTL:P3D
REFRESH-INTERVAL:P3D
CALSCALE:GREGORIAN
BEGIN:VEVENT
DTSTART:20250101T003000Z
DTEND:20250101T030000Z
X-MICROSOFT-CDO-ALLDAYEVENT:FALSE
SUMMARY:Barrence Whitfield's Rockin' New Year's Eve
DESCRIPTION:Expect an evening full of laughs and a full on rock n roll extravaganza with an All-Star band featuring some of the North Shore's finest. \n\n\nA New Year's Eve celebration not to miss!\n\nBarrence Whitfield has always embodied the heart and soul of Rock 'n Roll. And wherever this full-throttle soul screamer goes\, one can expect a rotating cast of the areas best and a wild night. A full band with featured guests JON BUTCHER\, SAL BAGLIO (Stompers)\, and HENLEY DOUGLAS (Heavy Metal Horns) will have The Cabot movin' and groovin' to Soul drenched\, Rhythm & Blues styled\, Funky ROCK 'N ROLL. Dave Mattacks and Wolf Ginandes will round out our musical line-up.\n\nVERY SPECIAL GUEST JIMMY TINGLE\n\n\n\n\n\nFrom The Tonight Show\, HBO\, and 60 Minutes II\, three time "Best of Boston" winner comedian Jimmy Tingle  will bring the funny to this NYE Comedy and Rock and Roll extravaganza!\n\n\n\nFresh off a NYC run of his latest solo show Humor and Hope for Humanity and the release of his new comedy documentary JIMMY TINGLE The "Radical" Middle\, Jimmy returns to The Cabot to help ring in the New Year!  If laughter is the best medicine\, then Jimmy Tingle is the Surgeon General of American humor. He'll make you laugh\, think and feel better\, just what the doctor ordered.\n\nMASTER OF CEREMONIES\n\nHolly Harris\, host of WUMB's Spinning The Blues
X-ALT-DESC;FMTTYPE=text/html:<p>Expect an evening full of laughs and a full on rock n roll extravaganza with an All-Star band featuring some of the North Shore&#39\;s finest.&nbsp\;</p>\n\n<div>\n<p>A New Year&rsquo\;s Eve celebration not to miss!</p>\n\n<p>Barrence Whitfield has always embodied the heart and soul of Rock &lsquo\;n Roll. And wherever this full-throttle soul screamer goes\, one can expect a rotating cast of the areas best and a wild night. A full band with featured guests&nbsp\;JON BUTCHER\,&nbsp\;SAL BAGLIO&nbsp\;(Stompers)\, and&nbsp\;HENLEY DOUGLAS&nbsp\;(Heavy Metal Horns) will have The Cabot movin&rsquo\; and groovin&rsquo\; to Soul drenched\, Rhythm &amp\; Blues styled\, Funky ROCK &lsquo\;N ROLL.&nbsp\;Dave Mattacks&nbsp\;and&nbsp\;Wolf Ginandes&nbsp\;will round out our musical line-up.</p>\n\n<h5>VERY SPECIAL GUEST JIMMY TINGLE</h5>\n</div>\n\n<div>\n<div>\n<div>\n<p>From The Tonight Show\, HBO\, and 60 Minutes II\, three time &ldquo\;Best of Boston&rdquo\; winner comedian Jimmy Tingle&nbsp\; will bring the funny to this NYE Comedy and Rock and Roll extravaganza!</p>\n</div>\n\n<div>\n<p>Fresh off a NYC run of his latest solo show Humor and Hope for Humanity and the release of his new comedy documentary JIMMY TINGLE The &ldquo\;Radical&rdquo\; Middle\, Jimmy returns to The Cabot to help ring in the New Year!&nbsp\; If laughter is the best medicine\, then Jimmy Tingle is the Surgeon General of American humor. He&rsquo\;ll make you laugh\, think and feel better\, just what the doctor ordered.</p>\n\n<h5>MASTER OF CEREMONIES</h5>\n\n<p>Holly Harris\, host of WUMB&rsquo\;s&nbsp\;<em>Spinning The Blues</em></p>\n</div>\n</div>\n</div>\n
LOCATION:The Cabot 286 Cabot Street Beverly\, MA 01915
UID:e.2981.34275
SEQUENCE:3
DTSTAMP:20260424T123909Z
URL:https://business.capeannchamber.com/events/details/barrence-whitfield-s-rockin-new-year-s-eve-34275
END:VEVENT

END:VCALENDAR
