BEGIN:VCALENDAR
VERSION:2.0
PRODID:-//ChamberMaster//Event Calendar 2.0//EN
METHOD:PUBLISH
X-PUBLISHED-TTL:P3D
REFRESH-INTERVAL:P3D
CALSCALE:GREGORIAN
BEGIN:VEVENT
DTSTART:20251018T130000Z
DTEND:20251023T210000Z
X-MICROSOFT-CDO-ALLDAYEVENT:FALSE
SUMMARY:Bare Bones Woodcarving Workshops
DESCRIPTION:Five\, Three or Two-Day Bare Bones Woodcarving Workshops Available!\n\n\n\nYou will learn hand carving techniques\, sharpening tools\, as well as understanding types pf wood and designing ideas. \n\nWe have a lot of fun but this is an intensive workshop to give the beginner enthusiast a solid foundation in woodcarving. No matter what your carving style preference\, you need to know these fundamentals of carving technique and you need to know them well. In athletic sports (I consider woodcarving part sport) there is training in body mechanics. The importance of body mechanics is akin to a tennis player who has trained his volley to be "on point" with both efficiency and grace.
X-ALT-DESC;FMTTYPE=text/html:<span style="color:#4B0082\;"><span style="font-size:18px\;"><strong>Five\, Three or Two-Day Bare Bones Woodcarving Workshops Available!</strong></span></span><br />\n<br />\nYou will learn hand carving techniques\, sharpening tools\, as well as understanding types pf wood and designing ideas.&nbsp\;<br />\nWe have a lot of fun but this is an intensive workshop to give the beginner enthusiast a solid foundation in woodcarving. No matter what your carving style preference\, you need to know these fundamentals of carving technique and you need to know them well. In athletic sports (I consider woodcarving part sport) there is training in body mechanics. The importance of body mechanics is akin to a tennis player who has trained his volley to be &quot\;on point&quot\; with both efficiency and grace.<br />\n&nbsp\;
LOCATION:Calvo Studio
UID:e.2981.45172
SEQUENCE:3
DTSTAMP:20260425T023426Z
URL:https://business.capeannchamber.com/events/details/bare-bones-woodcarving-workshops-45172
END:VEVENT

END:VCALENDAR
