BEGIN:VCALENDAR
VERSION:2.0
PRODID:-//ChamberMaster//Event Calendar 2.0//EN
METHOD:PUBLISH
X-PUBLISHED-TTL:P3D
REFRESH-INTERVAL:P3D
CALSCALE:GREGORIAN
BEGIN:VEVENT
DTSTART;VALUE=DATE:20201202
DTEND;VALUE=DATE:20201203
TRANSP:TRANSPARENT
X-MICROSOFT-CDO-ALLDAYEVENT:TRUE
SUMMARY:Backyard Growers' Online Holiday Pop-Up Shop
DESCRIPTION:Backyard Growers' Annual Holiday Pop-Up Shop is OPEN for the season! And\, this year\, it's all online\, so you can shop for a cause from the comfort of your own home. Explore unique veggie-\, garden- and nature-inspired goodies for all your family and friends this festive season.\n\nProceeds support Backyard Growers' community\, backyard\, and school garden programs\, connecting kids\, seniors\, and families to healthy\, fresh produce by teaching people to grow their own food.\n\nClick here to shop!\n\nCurbside pick-up only.\n\nThe Shop is open through December 22
X-ALT-DESC;FMTTYPE=text/html:<p>Backyard Growers&#39\;&nbsp\;<a href="https://bit.ly/BYGHolidayShop" style="background: transparent\; text-decoration-line: none\; color: rgb(61\, 153\, 145)\; overflow-wrap: break-word\;">Annual Holiday Pop-Up Shop</a>&nbsp\;is OPEN for the season! And\, this year\, it&rsquo\;s all online\, so you can shop for a cause from the comfort of your own home. Explore unique veggie-\, garden- and nature-inspired goodies for all your family and friends this festive season.</p>\n\n<p>Proceeds support&nbsp\;<a href="http://www.backyardgrowers.org/" style="background: transparent\; text-decoration-line: none\; color: rgb(61\, 153\, 145)\; overflow-wrap: break-word\;">Backyard Growers</a>&lsquo\; community\, backyard\, and school garden programs\, connecting kids\, seniors\, and families to healthy\, fresh produce by teaching people to grow their own food.</p>\n\n<p><a href="https://bit.ly/BYGHolidayShop" style="background: transparent\; text-decoration-line: none\; color: rgb(61\, 153\, 145)\; overflow-wrap: break-word\;" target="_blank">Click here</a>&nbsp\;to shop!</p>\n\n<p>Curbside pick-up only.</p>\n\n<p>The Shop is open through December 22&nbsp\;</p>\n
LOCATION:Online at https://bit.ly/BYGHolidayShop.
UID:e.2981.20389
SEQUENCE:3
DTSTAMP:20260419T200917Z
URL:https://business.capeannchamber.com/events/details/backyard-growers-online-holiday-pop-up-shop-12-02-2020-20389
END:VEVENT

END:VCALENDAR
