BEGIN:VCALENDAR
VERSION:2.0
PRODID:-//ChamberMaster//Event Calendar 2.0//EN
METHOD:PUBLISH
X-PUBLISHED-TTL:P3D
REFRESH-INTERVAL:P3D
CALSCALE:GREGORIAN
BEGIN:VEVENT
DTSTART:20251206T170000Z
DTEND:20251206T200000Z
X-MICROSOFT-CDO-ALLDAYEVENT:FALSE
SUMMARY:Backyard Growcery December Pop-Up Market
DESCRIPTION:Gloucester's weekly farmers market The Backyard Growcery is BACK for a pop-up holiday market hosted at The Cut in downtown Gloucester\, brought to you by Backyard Growers. Stop by to celebrate the season in community\, shop farm-fresh and locally-made foods\, enjoy live music\, and more\, all in a great location. SNAP accepted. Plus\, the Growcery is offering a $20 SNAP match per SNAP customer\, through Backyard Growers' Market Mint program. \n\n\nFeaturing:\n\n\nFarm-Fresh & Locally-Made Food\n\nCommunity Seed Giveaway\n\nEco-friendly Gifts for the Gardener\n\nFamily Holiday Craft Corner\n\n2026 Backyard Growers Garden Applications\n\nLive Music\n\nBurgers by Little Sister\n\nAnd More!\n\n\nBackyard Growers is a 501(C)3 nonprofit organization committed to creating equitable access to the resources\, space & knowledge people need to grow their own food in our community and 100% of Gloucester Public Schools.  Learn more about Backyard Growers at backyardgrowers.org.
X-ALT-DESC;FMTTYPE=text/html:<!-- wp:paragraph -->\n<p>Gloucester&#39\;s weekly farmers market <a href="http://www.backyardgrowers.org/backyard-growcery">The Backyard Growcery</a> is BACK for a <a href="https://www.backyardgrowers.org/events-and-workshops/backyard-growcery-pop-up-holiday-market">pop-up holiday market</a> hosted at <a href="https://thecutlive.com/">The Cut</a>&nbsp\;in downtown Gloucester\, brought to you by <a href="http://www.backyardgrowers.org">Backyard Growers</a>.&nbsp\;Stop by to celebrate the season in community\, shop farm-fresh and locally-made foods\, enjoy live music\, and more\, all in a great location.&nbsp\;SNAP accepted. Plus\, the Growcery is offering a $20 SNAP match per SNAP customer\, through Backyard Growers&#39\; Market Mint program.&nbsp\;</p>\n<!-- /wp:paragraph --><!-- wp:paragraph -->\n\n<p><em>Featuring:</em></p>\n<!-- /wp:paragraph --><!-- wp:paragraph -->\n\n<p>Farm-Fresh &amp\; Locally-Made Food<br />\nCommunity Seed Giveaway<br />\nEco-friendly Gifts for the Gardener<br />\nFamily Holiday Craft Corner<br />\n2026 Backyard Growers Garden Applications<br />\nLive Music<br />\nBurgers by Little Sister<br />\nAnd More!</p>\n<!-- /wp:paragraph --><!-- wp:paragraph -->\n\n<p><em>Backyard Growers is a 501(C)3 nonprofit organization committed to creating equitable access to the resources\, space &amp\; knowledge people need to grow their own food in our community and 100% of Gloucester Public Schools.&nbsp\; Learn more about Backyard Growers at&nbsp\;<a href="http://backyardgrowers.org/" rel="noreferrer noopener" target="_blank">backyardgrowers.org</a>.</em></p>\n<!-- /wp:paragraph -->
LOCATION:The Cut 177 Main Street Gloucester\, MA 01930
UID:e.2981.45386
SEQUENCE:3
DTSTAMP:20260422T021738Z
URL:https://business.capeannchamber.com/events/details/backyard-growcery-december-pop-up-market-45386
END:VEVENT

END:VCALENDAR
