BEGIN:VCALENDAR
VERSION:2.0
PRODID:-//ChamberMaster//Event Calendar 2.0//EN
METHOD:PUBLISH
X-PUBLISHED-TTL:P3D
REFRESH-INTERVAL:P3D
CALSCALE:GREGORIAN
BEGIN:VEVENT
DTSTART:20260125T010000Z
DTEND:20260125T030000Z
X-MICROSOFT-CDO-ALLDAYEVENT:FALSE
SUMMARY:Back To The Eighties Show with Jessie’s Girl
DESCRIPTION:Jessie's Girl's primary line-up includes a team of NYC's top rock and pop vocalists: Destinee Monroe\, Jerome Bell-Bastien\, and Mark Rinzel. They are backed by one of the tightest bands in the city\, comprised of 20+ year veterans of the NYC music scene: Eric Presti on guitar\, Drew  Mortali on bass\, Michael Maenza on drums\, and Karlee Bloom on keys and keytar. Each with dozens of credits performing with authentic '80s icons who made the music famous to begin with! \n\nIn fact\, Bret Michaels\, MC Hammer\, Colin Hay from Men at Work\, Tiffany\, Debbie Gibson\,  Taylor Dane\, Mike Score from A Flock of Seagulls\, Tone Loc\, Rob Base\, and many more have all performed at the Back To The Eighties Show.
X-ALT-DESC;FMTTYPE=text/html:<p>Jessie&rsquo\;s Girl&rsquo\;s primary line-up includes a team of NYC&rsquo\;s top rock and pop vocalists: Destinee Monroe\, Jerome Bell-Bastien\, and Mark Rinzel. They are backed by one of the tightest bands in the city\, comprised of 20+ year veterans of the NYC music scene: Eric Presti on guitar\, Drew&nbsp\; Mortali on bass\, Michael Maenza on drums\, and Karlee Bloom on keys and keytar. Each with dozens of credits performing with authentic &lsquo\;80s icons who made the music famous to begin with!&nbsp\;</p>\n\n<p>In fact\, Bret Michaels\, MC Hammer\, Colin Hay from Men at Work\, Tiffany\, Debbie Gibson\,&nbsp\; Taylor Dane\, Mike Score from A Flock of Seagulls\, Tone Loc\, Rob Base\, and many more have all performed at the Back To The Eighties Show.&nbsp\;</p>\n
LOCATION:The Cabot 286 Cabot St Beverly\, MA 01915
UID:e.2981.45850
SEQUENCE:3
DTSTAMP:20260425T135354Z
URL:https://business.capeannchamber.com/events/details/back-to-the-eighties-show-with-jessie-s-girl-45850
END:VEVENT

END:VCALENDAR
