BEGIN:VCALENDAR
VERSION:2.0
PRODID:-//ChamberMaster//Event Calendar 2.0//EN
METHOD:PUBLISH
X-PUBLISHED-TTL:P3D
REFRESH-INTERVAL:P3D
CALSCALE:GREGORIAN
BEGIN:VEVENT
DTSTART:20241215T190000Z
DTEND:20241216T000000Z
X-MICROSOFT-CDO-ALLDAYEVENT:FALSE
SUMMARY:Back Bay Ringers
DESCRIPTION:Get in the holiday spirit with the Boston-based Back Bay Ringers! Under the direction of Griff Gall\, BBR has quickly developed a reputation for excellence\, regularly performing at Boston-area landmarks such as Faneuil Hall\, Symphony Hall\, the Boston Children's Museum and the Prudential Center.
X-ALT-DESC;FMTTYPE=text/html:<span style="font-size:14px"><span style="background-color:rgb(250\, 250\, 250)\; color:rgb(0\, 0\, 0)\; font-family:open sans\,helvetica neue\,helvetica\,arial\,sans-serif">Get in the holiday spirit with the Boston-based Back Bay Ringers! Under the direction of Griff Gall\, BBR has quickly developed a reputation for excellence\, regularly performing at Boston-area landmarks such as Faneuil Hall\, Symphony Hall\, the Boston Children&rsquo\;s Museum and the Prudential Center.</span></span>
LOCATION:37 Main St\, Rockport\, MA 01966
UID:e.2981.33169
SEQUENCE:3
DTSTAMP:20260424T152502Z
URL:https://business.capeannchamber.com/events/details/back-bay-ringers-33169
END:VEVENT

END:VCALENDAR
