BEGIN:VCALENDAR
VERSION:2.0
PRODID:-//ChamberMaster//Event Calendar 2.0//EN
METHOD:PUBLISH
X-PUBLISHED-TTL:P3D
REFRESH-INTERVAL:P3D
CALSCALE:GREGORIAN
BEGIN:VEVENT
DTSTART:20251025T180000Z
DTEND:20251025T190000Z
X-MICROSOFT-CDO-ALLDAYEVENT:FALSE
SUMMARY:Author Talk with Mark Kurlansky: The Boston Way: Radicals Against Slavery & The Civil War
DESCRIPTION:Join the Sawyer Free Library for an afternoon with acclaimed author Mark Kurlansky as he discusses his latest book\, The Boston Way: Radicals Against Slavery & The Civil War.\n\nIn this powerful and thought-provoking work\, Kurlansky explores a lesser-known side of abolitionism the Boston pacifists who believed persuasion\, not violence\, was the only path to lasting freedom and justice. Through the lives of William Lloyd Garrison\, Frederick Douglass\, and other Black and white abolitionists\, Kurlansky examines how their moral courage and commitment to nonviolence shaped not only the fight against slavery\, but the broader pursuit of human rights that would influence thinkers from Leo Tolstoy to Gandhi and Dr. Martin Luther King Jr.\n\nCopies of The Boston Way will be available for purchase at the event courtesy of The Bookstore of Gloucester.
X-ALT-DESC;FMTTYPE=text/html:<p style="margin-left:0in\; margin-right:0in">Join the Sawyer Free Library for an afternoon with acclaimed author&nbsp\;<strong>Mark Kurlansky</strong>&nbsp\;as he discusses his latest book\,&nbsp\;<em>The Boston Way: Radicals Against Slavery &amp\; The Civil War</em>.</p>\n\n<p style="margin-left:0in\; margin-right:0in">In this powerful and thought-provoking work\, Kurlansky explores a lesser-known side of abolitionism&mdash\;the Boston pacifists who believed persuasion\, not violence\, was the only path to lasting freedom and justice. Through the lives of&nbsp\;<strong>William Lloyd Garrison</strong>\,&nbsp\;<strong>Frederick Douglass</strong>\, and other Black and white abolitionists\, Kurlansky examines how their moral courage and commitment to nonviolence shaped not only the fight against slavery\, but the broader pursuit of human rights that would influence thinkers from&nbsp\;<strong>Leo Tolstoy</strong>&nbsp\;to&nbsp\;<strong>Gandhi</strong>&nbsp\;and&nbsp\;<strong>Dr. Martin Luther King Jr.</strong></p>\n\n<p style="margin-left:0in\; margin-right:0in">Copies of&nbsp\;<em>The Boston Way</em>&nbsp\;will be available for purchase at the event courtesy of&nbsp\;<strong>The Bookstore of Gloucester</strong>.</p>\n
LOCATION:Sawyer Free Library\, Community Room\, 2 Dale Avenue\, Gloucester\, MA 01930
UID:e.2981.44887
SEQUENCE:3
DTSTAMP:20260422T073510Z
URL:https://business.capeannchamber.com/events/details/author-talk-with-mark-kurlansky-the-boston-way-radicals-against-slavery-the-civil-war-44887
END:VEVENT

END:VCALENDAR
