BEGIN:VCALENDAR
VERSION:2.0
PRODID:-//ChamberMaster//Event Calendar 2.0//EN
METHOD:PUBLISH
X-PUBLISHED-TTL:P3D
REFRESH-INTERVAL:P3D
CALSCALE:GREGORIAN
BEGIN:VEVENT
DTSTART:20140710T170000Z
DTEND:20140710T170000Z
X-MICROSOFT-CDO-ALLDAYEVENT:FALSE
SUMMARY:Auld Lang Syne at Gloucester Stage Company
DESCRIPTION:Part mystery\, part drama\, part comedy\, this absorbing thriller will certainly make you laugh and you may even shed a few \ntears. The tale of a New Year's Eve ''business'' encounter between a neighborhood lowlife and a retired school teacher\, \nwill surprisingly reveal why she has summoned him to her rambling South Boston home on short notice and what is their \nreal connection to one another. Some strong language.
X-ALT-DESC;FMTTYPE=text/html:Part mystery\, part drama\, part comedy\, this absorbing thriller will certainly make you laugh and you may even shed a few \ntears. The tale of a New Year's Eve ''business'' encounter between a neighborhood lowlife and a retired school teacher\, \nwill surprisingly reveal why she has summoned him to her rambling South Boston home on short notice and what is their \nreal connection to one another. Some strong language. \n
LOCATION:267 East Main Street\, Gloucester\, MA 01930
UID:e.2981.1298
SEQUENCE:3
DTSTAMP:20260419T155031Z
URL:https://business.capeannchamber.com/events/details/auld-lang-syne-at-gloucester-stage-company-07-10-2014-1298
END:VEVENT

END:VCALENDAR
