BEGIN:VCALENDAR
VERSION:2.0
PRODID:-//ChamberMaster//Event Calendar 2.0//EN
METHOD:PUBLISH
X-PUBLISHED-TTL:P3D
REFRESH-INTERVAL:P3D
CALSCALE:GREGORIAN
BEGIN:VEVENT
DTSTART;VALUE=DATE:20260418
DTEND;VALUE=DATE:20260503
TRANSP:TRANSPARENT
X-MICROSOFT-CDO-ALLDAYEVENT:TRUE
SUMMARY:Auction Preview Exhibition\, Rockport Art Association & Museum
DESCRIPTION:RAA&M Auction Preview Exhibition\n\nApril 18 - May 2\, 2026\n\nFeaturing all 189 auction lots in our Hibbard & Maddocks Galleries\n\n\n\nRAA&M Annual Art Auction\n\nSaturday\, May 2\, 2026\, 2:00 PM (ET) - Live Online Only\n\nHistoric American Artists - Highlighting Cape Ann School\n\n\n\nNoted Cape Ann historian and author Judith A. Curtis will give a gallery talk during the Auction Preview Exhibition on Saturday\, April 25 at 2:00pm.\n\n\n\nMore Information & Catalog: https://www.rockportartassn.org/auctioninfo
X-ALT-DESC;FMTTYPE=text/html:<strong>RAA&amp\;M Auction Preview Exhibition<br />\nApril 18 - May 2\, 2026</strong><br />\nFeaturing all 189 auction lots in our Hibbard &amp\; Maddocks Galleries<br />\n<br />\n<strong>RAA&amp\;M Annual Art Auction</strong><br />\n<strong>Saturday\, May 2\, 2026\, 2:00 PM (ET) - Live Online Only</strong><br />\nHistoric American Artists - Highlighting Cape Ann School<br />\n<br />\nNoted Cape Ann historian and author Judith A. Curtis will give a gallery talk during the Auction Preview Exhibition on Saturday\, April 25 at 2:00pm.<br />\n<br />\n<strong>More Information &amp\; Catalog:</strong>&nbsp\;<a href="https://www.rockportartassn.org/auctioninfo">https://www.rockportartassn.org/auctioninfo</a>\n<p><br />\n&nbsp\;</p>\n
LOCATION:Rockport Art Association & Museum 12 Main Street Rockport\, MA 01966
UID:e.2981.46934
SEQUENCE:3
DTSTAMP:20260421T223145Z
URL:https://business.capeannchamber.com/events/details/auction-preview-exhibition-rockport-art-association-museum-46934
END:VEVENT

END:VCALENDAR
