BEGIN:VCALENDAR
VERSION:2.0
PRODID:-//ChamberMaster//Event Calendar 2.0//EN
METHOD:PUBLISH
X-PUBLISHED-TTL:P3D
REFRESH-INTERVAL:P3D
CALSCALE:GREGORIAN
BEGIN:VEVENT
DTSTART:20260123T170000Z
DTEND:20260123T190000Z
X-MICROSOFT-CDO-ALLDAYEVENT:FALSE
SUMMARY:Arts & Culture Roundtable
DESCRIPTION:Please join us for the next quarterly Arts & Culture Roundtable\, a collaboration with the Greater Cape Ann Chamber of Commerce Arts & Culture Alliance and SeARTS - Society for the Encouragement of the Arts\n\n\n\nWe invite artists\, arts and culture leaders\, creative businesses\, gig workers\, and non-arts business leaders who want to connect with the Cape Ann creative community. \n\n\n\nAction items:\n\n	Committees that you might like to develop\, join\, or lead\n	Marketing ideas that have worked for you\, and how we might work together to implement new sales strategies\n	Your thoughts on encouraging patrons of the arts to further explore the arts and culture of our area\n\nWhat to expect:\n\n\n	Businesses will make new connections with Cape Ann's  working artist community\, cultural heritage and creative economy. \n	Artists and cultural leaders will learn about new opportunities for Chamber of Commerce partnerships. \n	Be inspired to creatively connect with the Chamber and its member businesses. \n	Hear from communities where the arts and business sectors work collaboratively. \n\nClick here for agenda and to RSVP
X-ALT-DESC;FMTTYPE=text/html:Please join us for the next quarterly Arts &amp\; Culture Roundtable\, a collaboration with the Greater Cape Ann Chamber of Commerce Arts &amp\; Culture Alliance and SeARTS - Society for the Encouragement of the Arts<br />\n<br />\nWe invite artists\, arts and culture leaders\, creative businesses\, gig workers\, and non-arts business leaders who want to connect with the Cape Ann creative community.&nbsp\;<br />\n<br />\nAction items:\n<ul>\n	<li>Committees that you might like to develop\, join\, or lead</li>\n	<li>Marketing ideas that have worked for you\, and how we might work together to implement new sales strategies</li>\n	<li>Your thoughts on encouraging patrons of the arts to further explore the arts and culture of our area</li>\n</ul>\nWhat to expect:\n\n<ul>\n	<li>Businesses will make new connections with Cape Ann&#39\;s&nbsp\; working artist community\, cultural heritage and creative economy.&nbsp\;</li>\n	<li>Artists and cultural leaders will learn about new opportunities for Chamber of Commerce partnerships.&nbsp\;</li>\n	<li>Be inspired to creatively connect with the Chamber and its member businesses.&nbsp\;</li>\n	<li>Hear from communities where the arts and business sectors work collaboratively.&nbsp\;</li>\n</ul>\n<a href="https://mailchi.mp/searts.org/jan23roundtable?mc_cid=3ebd4869aa&amp\;mc_eid=2612217655">Click here for agenda and to RSVP</a>
LOCATION:Cultural Center at Rocky Neck 6 Wonson St Gloucester\, MA
UID:e.2981.46123
SEQUENCE:3
DTSTAMP:20260425T154141Z
URL:https://business.capeannchamber.com/events/details/arts-culture-roundtable-46123
END:VEVENT

END:VCALENDAR
