BEGIN:VCALENDAR
VERSION:2.0
PRODID:-//ChamberMaster//Event Calendar 2.0//EN
METHOD:PUBLISH
X-PUBLISHED-TTL:P3D
REFRESH-INTERVAL:P3D
CALSCALE:GREGORIAN
BEGIN:VEVENT
DTSTART:20140913T210000Z
DTEND:20140913T230000Z
X-MICROSOFT-CDO-ALLDAYEVENT:FALSE
SUMMARY:Artist's Reception at Trident Gallery for Susan Erony
DESCRIPTION:Trident Gallery holds an Artist's Reception for Susan Erony on September 13th\, from 5-7 pm
X-ALT-DESC;FMTTYPE=text/html:Trident Gallery holds an Artist's Reception for Susan Erony on September 13th\, from 5-7 pm
LOCATION:189 Main Street\, Gloucester\, Ma 01930 Trident Gallery is in downtown Gloucester\, Massachusetts\, on Main Street at the corner of Duncan Street (which becomes Pleasant Street as it crosses Main)
UID:e.2981.1465
SEQUENCE:3
DTSTAMP:20260419T135948Z
URL:https://business.capeannchamber.com/events/details/artist-s-reception-at-trident-gallery-for-susan-erony-09-13-2014-1465
END:VEVENT

END:VCALENDAR
