BEGIN:VCALENDAR
VERSION:2.0
PRODID:-//ChamberMaster//Event Calendar 2.0//EN
METHOD:PUBLISH
X-PUBLISHED-TTL:P3D
REFRESH-INTERVAL:P3D
CALSCALE:GREGORIAN
BEGIN:VEVENT
DTSTART:20140524T130000Z
DTEND:20140524T210000Z
X-MICROSOFT-CDO-ALLDAYEVENT:FALSE
SUMMARY:Artist's Plein Air Day at Cogswell's Grant
DESCRIPTION:Artists and painters are invited to Cogswell's Grant for a day of plein air painting. Join fellow artists from all over the North Shore to paint beautiful vistas including the Essex River and the Great Marsh\, farm fields and landscapes\, and our eighteenth-century historic house and barns. Free beverages and snacks are available during the day. Artists can tour the museum\, which features one of the country's most celebrated collections of American folk art.
X-ALT-DESC;FMTTYPE=text/html:Artists and painters are invited to Cogswell's Grant for a day of plein air painting. Join fellow artists from all over the North Shore to paint beautiful vistas including the Essex River and the Great Marsh\, farm fields and landscapes\, and our eighteenth-century historic house and barns. Free beverages and snacks are available during the day. Artists can tour the museum\, which features one of the country's most celebrated collections of American folk art.
LOCATION:60 Spring Street\, Essex\, MA 01929 Cogswell's Grant Spring Street is just off of Main Street (Route 133). Spring Street ends at Cogswell's Grant.
UID:e.2981.1338
SEQUENCE:3
DTSTAMP:20260419T195514Z
URL:https://business.capeannchamber.com/events/details/artist-s-plein-air-day-at-cogswell-s-grant-05-24-2014-1338
END:VEVENT

END:VCALENDAR
