BEGIN:VCALENDAR
VERSION:2.0
PRODID:-//ChamberMaster//Event Calendar 2.0//EN
METHOD:PUBLISH
X-PUBLISHED-TTL:P3D
REFRESH-INTERVAL:P3D
CALSCALE:GREGORIAN
BEGIN:VEVENT
DTSTART:20221014T210000Z
DTEND:20221015T000000Z
X-MICROSOFT-CDO-ALLDAYEVENT:FALSE
SUMMARY:Artist Reception at Seven Suns Gallery
DESCRIPTION:The guest artist reception for Matthew Billey will be on Friday\, October 14 from 5:00 pm - 8:00 pm at Seven Suns Gallery in Rockport and is free and open to the public. The "Red Sun" series and others of Matt's paintings will be featured as a Fall Event at Loren Doucette Studio at Seven Suns Gallery from October 7 - November 25th. Seven Suns Gallery is located at 48 Bearskin Neck in Rockport\, MA. and is open 7\n\ndays a week from 10:00 am - 6:00 pm.\n\n\n\nAbout the artist:\n\nMatthew Billey has been a traditional wooden boat builder for the last 25 years. He has a\n\nspecial interest in Scandinavian designs and construction methods. Matt built and lives aboard his 27' Danish Cutter\, Jette. She appears frequently as the main subject matter in his artwork. His expertise in designing\, building\, and sailing wooden sailboats lends a discerning eye when portraying them accurately in their element. His 7-year-old daughter\, Naomi\, was a major influence in getting him started as a painter. Since the Spring of 2022\, he has made several works based on his interest in metaphysics\, global ascension\, astrology\, perception beyond the ordinary five senses and spirituality. He merges\n\nthat interest with his passion for landscapes and boats. Matt's latest body of work\, The "Red Sun" series\, showcases 7 tall vertical paintings\; all acrylic on wood and all fantastical in nature.
X-ALT-DESC;FMTTYPE=text/html:The guest artist reception for Matthew Billey will be on Friday\, October 14 from 5:00 pm - 8:00 pm at Seven Suns Gallery in Rockport and is free and open to the public.&nbsp\;The &ldquo\;Red Sun&rdquo\; series and others of Matt&rsquo\;s paintings will be featured as a Fall Event at Loren Doucette Studio at Seven Suns Gallery from October 7 - November 25th. Seven Suns Gallery is located at 48 Bearskin Neck in Rockport\, MA. and is open 7<br />\ndays a week from 10:00 am - 6:00 pm.<br />\n<br />\nAbout the artist:<br />\nMatthew Billey has been a traditional wooden boat builder for the last 25 years. He has a<br />\nspecial interest in Scandinavian designs and construction methods. Matt built and lives aboard his 27&rsquo\; Danish Cutter\, Jette. She appears frequently as the main subject matter in his artwork. His expertise in designing\, building\, and sailing wooden sailboats lends a discerning eye when portraying them accurately in their element. His 7-year-old daughter\, Naomi\, was a major influence in getting him started as a painter. Since the Spring of 2022\, he has made several works based on his interest in metaphysics\, global ascension\, astrology\, perception beyond the ordinary five senses and spirituality. He merges<br />\nthat interest with his passion for landscapes and boats. Matt&rsquo\;s latest body of work\, The &ldquo\;Red Sun&rdquo\; series\, showcases 7 tall vertical paintings\; all acrylic on wood and all fantastical in nature.
LOCATION:Seven Suns Gallery 48 Bearskin Neck Rockport
UID:e.2981.23144
SEQUENCE:3
DTSTAMP:20260424T140804Z
URL:https://business.capeannchamber.com/events/details/artist-reception-at-seven-suns-gallery-23144
END:VEVENT

END:VCALENDAR
