BEGIN:VCALENDAR
VERSION:2.0
PRODID:-//ChamberMaster//Event Calendar 2.0//EN
METHOD:PUBLISH
X-PUBLISHED-TTL:P3D
REFRESH-INTERVAL:P3D
CALSCALE:GREGORIAN
BEGIN:VEVENT
DTSTART:20241030T200000Z
DTEND:20241030T220000Z
X-MICROSOFT-CDO-ALLDAYEVENT:FALSE
SUMMARY:Artist Demonstration: Marion Hall
DESCRIPTION:Come see one of our local artists in their element as they paint and educate the public about their process.  Enjoy a cash bar and free snacks while you watch their creation come to life.  \n\n Marion Hall is a watercolorist who focuses on capturing the beauty of nature in her works.  She is is a Signature Member of the New England Watercolor Society\, and is currently located in Manchester-By-The-Sea.   \n\n "Birds feeding\, boats sailing\, oceans glistening\, flowers blooming\, trees reaching\, lighthouses shining\, beaches beckoning\, waves breaking\, marshes glowing\, fog lifting\, and harbor vessels lying peacefully at their moorings are familiar themes in Marion's paintings that stimulate one's emotions and memories." - Marion Hall's Website\n\nIn partnership with Rockport Art Association.
X-ALT-DESC;FMTTYPE=text/html:<p>Come see one of our local artists in their element as they paint and educate the public about their process.&nbsp\; Enjoy a cash bar and free snacks while you watch their creation come to life.&nbsp\;&nbsp\;</p>\n\n<p>&nbsp\;Marion Hall is a watercolorist who focuses on capturing the beauty of nature in her works.&nbsp\; She is is a Signature Member of the New England Watercolor Society\, and is currently located in Manchester-By-The-Sea.&nbsp\; &nbsp\;</p>\n\n<p>&nbsp\;&quot\;Birds feeding\, boats sailing\, oceans glistening\, flowers blooming\, trees reaching\, lighthouses shining\, beaches beckoning\, waves breaking\, marshes glowing\, fog lifting\, and harbor vessels lying peacefully at their moorings are familiar themes in Marion&rsquo\;s paintings that stimulate one&rsquo\;s emotions and memories.&quot\; - Marion Hall&#39\;s Website</p>\n\n<p>In partnership with Rockport Art Association.&nbsp\; &nbsp\;</p>\n
LOCATION:Emerson Inn by the Sea 1 Cathedral Ave Rockport\, MA
UID:e.2981.33122
SEQUENCE:3
DTSTAMP:20260421T083732Z
URL:https://business.capeannchamber.com/events/details/artist-demonstration-marion-hall-33122
END:VEVENT

END:VCALENDAR
