BEGIN:VCALENDAR
VERSION:2.0
PRODID:-//ChamberMaster//Event Calendar 2.0//EN
METHOD:PUBLISH
X-PUBLISHED-TTL:P3D
REFRESH-INTERVAL:P3D
CALSCALE:GREGORIAN
BEGIN:VEVENT
DTSTART:20250806T143000Z
DTEND:20250806T153000Z
X-MICROSOFT-CDO-ALLDAYEVENT:FALSE
SUMMARY:Art & Sensory
DESCRIPTION:Wednesday\, August 6\, 2025\n\n10:30a.m.   11:30a.m.\n\nCarlson Education Center\, CAM Green\n\n13 Poplar Street\, Gloucester\, MA 01930\n\nFree and open to the public. Registration Required\n\nChildren of preschool to upper elementary age and their caregivers are invited to explore their creativity through the fun of using many different materials with art educator Sarah Brown. Projects are always step-by-step and hands-on to encourage sensory guidance and fine motor skills\, and to help create individual masterpieces! This program is free but registration is required due to limited materials. Children must be accompanied by at least one adult. \n\nProgram may take place outside the Carlson Education Center if weather permits.\n\n \n\nImage Credit: Photo by Sarah Brown
X-ALT-DESC;FMTTYPE=text/html:<p>Wednesday\, August 6\, 2025<br />\n10:30a.m. &ndash\; 11:30a.m.<br />\nCarlson Education Center\,&nbsp\;<a href="https://www.capeannmuseum.org/visit/cam-green-campus/" style="box-sizing: border-box\; margin: 0px\; padding: 0px\; border-width: 0px 0px 1px\; border-top-style: initial\; border-right-style: initial\; border-bottom-style: solid\; border-left-style: initial\; border-color: rgb(211\, 211\, 211)\; border-image: initial\; font-variant: inherit\; font-weight: inherit\; font-stretch: inherit\; font-size: inherit\; line-height: inherit\; font-family: inherit\; font-optical-sizing: inherit\; font-size-adjust: inherit\; font-kerning: inherit\; font-feature-settings: inherit\; font-variation-settings: inherit\; vertical-align: baseline\; text-decoration-line: none\; outline: 0px\; max-width: 100%\; color: rgb(37\, 119\, 160)\; transition: color 0.2s\;">CAM Green</a><br />\n13 Poplar Street\, Gloucester\, MA 01930<br />\n<em>Free&nbsp\;and open&nbsp\;to the public.&nbsp\;<a href="https://115461a.blackbaudhosting.com/115461a/tickets?tab=2&amp\;txobjid=9956a537-5ee4-43de-99df-d162fa9264b6" style="box-sizing: border-box\; margin: 0px\; padding: 0px\; border-width: 0px 0px 1px\; border-top-style: initial\; border-right-style: initial\; border-bottom-style: solid\; border-left-style: initial\; border-color: rgb(211\, 211\, 211)\; border-image: initial\; font-style: normal\; font-variant: inherit\; font-weight: inherit\; font-stretch: inherit\; font-size: inherit\; line-height: inherit\; font-family: inherit\; font-optical-sizing: inherit\; font-size-adjust: inherit\; font-kerning: inherit\; font-feature-settings: inherit\; font-variation-settings: inherit\; vertical-align: baseline\; text-decoration-line: none\; outline: 0px\; max-width: 100%\; color: rgb(37\, 119\, 160)\; transition: color 0.2s\;">Registration Required</a></em></p>\n\n<p>Children of preschool to upper elementary age and their caregivers are invited to explore their creativity through the fun of using many&nbsp\;different materials&nbsp\;with art educator Sarah Brown. Projects are always step-by-step and hands-on to encourage sensory guidance and fine motor skills\, and to help create&nbsp\;individual masterpieces!&nbsp\;This program is&nbsp\;free&nbsp\;but registration is required due to limited materials. Children must be accompanied by at least one adult.&nbsp\;</p>\n\n<p>Program&nbsp\;may take place outside the Carlson Education Center if&nbsp\;weather&nbsp\;permits.</p>\n\n<p>&nbsp\;</p>\n\n<p><em>Image Credit: Photo by Sarah Brown</em></p>\n
LOCATION:Carlson Education Center\, CAM Green 13 Poplar Street\, Gloucester\, MA 01930
UID:e.2981.37359
SEQUENCE:3
DTSTAMP:20260424T235206Z
URL:https://business.capeannchamber.com/events/details/art-sensory-08-06-2025-37359
END:VEVENT

END:VCALENDAR
