BEGIN:VCALENDAR
VERSION:2.0
PRODID:-//ChamberMaster//Event Calendar 2.0//EN
METHOD:PUBLISH
X-PUBLISHED-TTL:P3D
REFRESH-INTERVAL:P3D
CALSCALE:GREGORIAN
BEGIN:VEVENT
DTSTART;VALUE=DATE:20250613
DTEND;VALUE=DATE:20250615
TRANSP:TRANSPARENT
X-MICROSOFT-CDO-ALLDAYEVENT:TRUE
SUMMARY:Art in the Barn
DESCRIPTION:Art in the Barn\, Essex County Greenbelt's annual celebration of regional art and land conservation\, returns June 13 and 14.\n\nNow in its third decade\, the North Shore tradition features a juried selection of works by over 130 artists.\n\nMore than 1\,000 pieces   ranging from paintings and photography to sculpture\, stained glass\, ceramics\, and more   will be showcased against the scenic backdrop of a New England salt marsh.\n\nArt in the Barn celebrates artistic talent while also supporting Greenbelt's conservation mission to protect natural landscapes and working farms across Essex County. Artists contribute 50% or more of their proceeds to Greenbelt's conservation work.\n\nThis event takes place on Cox Reservation in Essex\, a 31-acre property with open fields and trails on the edge of the Great Marsh and the Essex River. \n\nArt in the Barn hours\n\nFriday\, June 13\, 10 a.m.   3 p.m.\n\nOpening Reception: 5   8:30 p.m.\n\nThe event officially opens at 10 a.m.\, but in the evening\, a reception and artists mixer will be held featuring live music by The Splinters\, along with delicious food\, desserts\, and drinks from local favorites Butter UR Biscuit\, The Cravery\, and True North Ale Company.\n\nSaturday\, June 14\, 10 a.m.   5 p.m.\n\nSlow River Studio will be holding art-making workshops throughout the day.\n\nParking and admission for this event are free. For more information\, please visit: ecga.org/artinthebarn
X-ALT-DESC;FMTTYPE=text/html:<p style="box-sizing: border-box\; margin: 0px auto 26px\; overflow-wrap: break-word\; color: rgb(34\, 34\, 34)\; font-family: Montserrat\; font-size: 17px\; line-height: 1.7 !important\;"><a href="https://www.ecga.org/events/art-in-the-barn" style="box-sizing: border-box\; background-color: initial\; color: rgb(0\, 92\, 230)\; text-decoration-line: none\; pointer-events: auto\;">Art in the Barn</a>\, Essex County Greenbelt&rsquo\;s annual celebration of regional art and land conservation\, returns June 13 and 14.</p>\n\n<p style="box-sizing: border-box\; margin: 0px auto 26px\; overflow-wrap: break-word\; color: rgb(34\, 34\, 34)\; font-family: Montserrat\; font-size: 17px\; line-height: 1.7 !important\;">Now in its third decade\, the North Shore tradition features a juried selection of works by over 130 artists.</p>\n\n<p style="box-sizing: border-box\; margin: 0px auto 26px\; overflow-wrap: break-word\; color: rgb(34\, 34\, 34)\; font-family: Montserrat\; font-size: 17px\; line-height: 1.7 !important\;">More than 1\,000 pieces &mdash\; ranging from paintings and photography to sculpture\, stained glass\, ceramics\, and more &mdash\; will be showcased against the scenic backdrop of a New England salt marsh.</p>\n\n<p style="box-sizing: border-box\; margin: 0px auto 26px\; overflow-wrap: break-word\; color: rgb(34\, 34\, 34)\; font-family: Montserrat\; font-size: 17px\; line-height: 1.7 !important\;">Art in the Barn celebrates artistic talent while also supporting Greenbelt&rsquo\;s conservation mission to&nbsp\;protect natural landscapes and working farms across Essex County.&nbsp\;Artists contribute 50% or more of their proceeds to Greenbelt&rsquo\;s conservation work.</p>\n\n<p style="box-sizing: border-box\; margin: 0px auto 26px\; overflow-wrap: break-word\; color: rgb(34\, 34\, 34)\; font-family: Montserrat\; font-size: 17px\; line-height: 1.7 !important\;">This event takes place on&nbsp\;<a href="https://ecga.org/Property/Allyn-Cox-Reservation" style="box-sizing: border-box\; background-color: initial\; color: rgb(0\, 92\, 230)\; text-decoration-line: none\; pointer-events: auto\;">Cox Reservation</a>&nbsp\;in Essex\,&nbsp\;<a style="box-sizing: border-box\; background-color: initial\; color: rgb(0\, 92\, 230)\; pointer-events: auto\;">a 31-acre property with open fields and trails on the edge of the Great Marsh and the Essex River.&nbsp\;</a></p>\n\n<h2 class="wp-block-heading" id="h-art-in-the-barn-hours" style="box-sizing: border-box\; font-family: Montserrat\; color: rgb(17\, 17\, 17)\; margin: 30px auto 20px\; font-weight: 700 !important\; font-size: 28px !important\; text-transform: uppercase !important\; letter-spacing: -2px !important\;">Art in the Barn hours</h2>\n\n<p style="box-sizing: border-box\; margin: 0px auto 26px\; overflow-wrap: break-word\; color: rgb(34\, 34\, 34)\; font-family: Montserrat\; font-size: 17px\; line-height: 1.7 !important\;"><span style="box-sizing: border-box\; font-weight: 700\;">Friday\, June 13\, 10 a.m. &ndash\; 3 p.m</span>.</p>\n\n<p style="box-sizing: border-box\; margin: 0px auto 26px\; overflow-wrap: break-word\; color: rgb(34\, 34\, 34)\; font-family: Montserrat\; font-size: 17px\; line-height: 1.7 !important\;"><em style="box-sizing: border-box\;">Opening Reception: 5 &ndash\; 8:30 p.m</em>.</p>\n\n<p style="box-sizing: border-box\; margin: 0px auto 26px\; overflow-wrap: break-word\; color: rgb(34\, 34\, 34)\; font-family: Montserrat\; font-size: 17px\; line-height: 1.7 !important\;">The event officially opens at 10 a.m.\, but in the evening\, a reception and artists mixer will be held featuring live music by The Splinters\, along with delicious food\, desserts\, and drinks from local favorites Butter UR Biscuit\, The Cravery\, and True North Ale Company.</p>\n\n<p style="box-sizing: border-box\; margin: 0px auto 26px\; overflow-wrap: break-word\; color: rgb(34\, 34\, 34)\; font-family: Montserrat\; font-size: 17px\; line-height: 1.7 !important\;"><span style="box-sizing: border-box\; font-weight: 700\;">Saturday\, June 14\, 10 a.m. &ndash\; 5 p.m.</span></p>\n\n<p style="box-sizing: border-box\; margin: 0px auto 26px\; overflow-wrap: break-word\; color: rgb(34\, 34\, 34)\; font-family: Montserrat\; font-size: 17px\; line-height: 1.7 !important\;">Slow River Studio will be holding art-making workshops throughout the day.</p>\n\n<p style="box-sizing: border-box\; margin: 0px auto 26px\; overflow-wrap: break-word\; color: rgb(34\, 34\, 34)\; font-family: Montserrat\; font-size: 17px\; line-height: 1.7 !important\;"><span style="box-sizing: border-box\; font-weight: 700\;">Parking and admission for this event are free. For more information\, please visit:&nbsp\;</span><a href="https://ecga.org/artinthebarn" style="box-sizing: border-box\; background-color: initial\; color: rgb(0\, 92\, 230)\; text-decoration-line: none\; pointer-events: auto\;">ecga.org/artinthebarn</a></p>\n
LOCATION:
UID:e.2981.37282
SEQUENCE:3
DTSTAMP:20260424T211118Z
URL:https://business.capeannchamber.com/events/details/art-in-the-barn-37282
END:VEVENT

END:VCALENDAR
