BEGIN:VCALENDAR
VERSION:2.0
PRODID:-//ChamberMaster//Event Calendar 2.0//EN
METHOD:PUBLISH
X-PUBLISHED-TTL:P3D
REFRESH-INTERVAL:P3D
CALSCALE:GREGORIAN
BEGIN:VEVENT
DTSTART:20241121T000000Z
DTEND:20241121T020000Z
X-MICROSOFT-CDO-ALLDAYEVENT:FALSE
SUMMARY:Apple Hill String Quartet
DESCRIPTION:The Quartet's concert programs reflect the diversity of Apple Hill: pieces amplifying new voices\, views\, and backgrounds in classical music\; compositions from places representing the Quartet's global travels and the summer workshop community\; and music from the historic canon and new commissions\, especially from renowned alumni.
X-ALT-DESC;FMTTYPE=text/html:<span style="font-size:14px"><span style="background-color:rgb(250\, 250\, 250)\; color:rgb(0\, 0\, 0)\; font-family:open sans\,helvetica neue\,helvetica\,arial\,sans-serif">The Quartet&rsquo\;s concert programs reflect the diversity of Apple Hill: pieces amplifying new voices\, views\, and backgrounds in classical music\; compositions from places representing the Quartet&rsquo\;s global travels and the summer workshop community\; and music from the historic canon and new commissions\, especially from renowned alumni.</span></span>
LOCATION:Shalin Liu 37 Main St\, Rockport\, MA 01966
UID:e.2981.33138
SEQUENCE:3
DTSTAMP:20260424T165229Z
URL:https://business.capeannchamber.com/events/details/apple-hill-string-quartet-33138
END:VEVENT

END:VCALENDAR
