BEGIN:VCALENDAR
VERSION:2.0
PRODID:-//ChamberMaster//Event Calendar 2.0//EN
METHOD:PUBLISH
X-PUBLISHED-TTL:P3D
REFRESH-INTERVAL:P3D
CALSCALE:GREGORIAN
BEGIN:VEVENT
DTSTART:20250927T130000Z
DTEND:20250927T160000Z
X-MICROSOFT-CDO-ALLDAYEVENT:FALSE
SUMMARY:Annual Downtown Clean-Up
DESCRIPTION:4th Annual Downtown Clean Up!\n\n\n\nCome join other volunteers who care about our community help clean up downtown!\n\n\n\nSupplies\, water and snacks provided\n\n\n\nOrganized by City Councilor Jeff Worthley
X-ALT-DESC;FMTTYPE=text/html:<span style="font-size:18px\;"><span style="color:#0000CD\;"><strong>4th Annual Downtown Clean Up!</strong></span></span><br />\n<br />\nCome join other volunteers who care about our community help clean up downtown!<br />\n<br />\nSupplies\, water and snacks provided<br />\n<br />\nOrganized by City Councilor Jeff Worthley<br />\n&nbsp\;
LOCATION:Starting at MBTA Parking Lot (75 Railroad Ave) and branching out
UID:e.2981.44830
SEQUENCE:3
DTSTAMP:20260422T091325Z
URL:https://business.capeannchamber.com/events/details/annual-downtown-clean-up-44830
END:VEVENT

END:VCALENDAR
