BEGIN:VCALENDAR
VERSION:2.0
PRODID:-//ChamberMaster//Event Calendar 2.0//EN
METHOD:PUBLISH
X-PUBLISHED-TTL:P3D
REFRESH-INTERVAL:P3D
CALSCALE:GREGORIAN
BEGIN:VEVENT
DTSTART:20250412T140000Z
DTEND:20250412T160000Z
X-MICROSOFT-CDO-ALLDAYEVENT:FALSE
SUMMARY:Annisquam Village Church Community Coastal Cleanup
DESCRIPTION:Join Seaside Sustainability\, The Annisquam Village Church\, Interfaith Committee/Cape Ann Climate Coalition\, the City of Gloucester\, One Hour at a Time Gang\, Saint John Episcopal Church\, Saint Paul Lutheran Church\, Gloucester Unitarian Universalist Church\, and Rockport Unitarian Universalist Society in a community coastal cleanup event at Stage Fort Park in Gloucester!\n\nMeet Location: Stage Fort Park in Gloucester (at the Bandstand)\n\n\n\nPlease register using this link: https://docs.google.com/forms/d/e/1FAIpQLSeiE7xH4wy0XLnnNr6wJOQL-jKQmuOK2E1Mpv5L4fZfpwvFqA/formResponse
X-ALT-DESC;FMTTYPE=text/html:<p>Join Seaside Sustainability\, The Annisquam Village Church\, Interfaith Committee/Cape Ann Climate Coalition\, the City of Gloucester\, One Hour at a Time Gang\, Saint John Episcopal Church\, Saint Paul Lutheran Church\, Gloucester Unitarian Universalist Church\, and Rockport Unitarian Universalist Society in a community coastal cleanup event at Stage Fort Park in Gloucester!</p>\n\n<p>Meet Location: Stage Fort Park in Gloucester (at the Bandstand)<br />\n<br />\n<span style="font-family:helvetica\,arial\,sans-serif">Please register using this link:&nbsp\;</span><a href="https://docs.google.com/forms/d/e/1FAIpQLSeiE7xH4wy0XLnnNr6wJOQL-jKQmuOK2E1Mpv5L4fZfpwvFqA/formResponse" style="color: rgb(17\, 85\, 204)\; box-sizing: border-box\; background: transparent\; text-decoration-line: none\; overflow-wrap: break-word\; font-family: Helvetica\, Arial\, sans-serif\; outline: none\;" target="_blank">https://docs.google.com/forms/d/e/1FAIpQLSeiE7xH4wy0XLnnNr6wJOQL-jKQmuOK2E1Mpv5L4fZfpwvFqA/formResponse</a></p>\n
LOCATION:Stage Fort Park 24 Hough Ave\, Gloucester\, MA 01930
UID:e.2981.35172
SEQUENCE:3
DTSTAMP:20260424T141302Z
URL:https://business.capeannchamber.com/events/details/annisquam-village-church-community-coastal-cleanup-35172
END:VEVENT

END:VCALENDAR
