BEGIN:VCALENDAR
VERSION:2.0
PRODID:-//ChamberMaster//Event Calendar 2.0//EN
METHOD:PUBLISH
X-PUBLISHED-TTL:P3D
REFRESH-INTERVAL:P3D
CALSCALE:GREGORIAN
BEGIN:VEVENT
DTSTART:20250412T233000Z
DTEND:20250413T013000Z
X-MICROSOFT-CDO-ALLDAYEVENT:FALSE
SUMMARY:Ancient Aliens Live
DESCRIPTION:Ancient Aliens LIVE is an experiential extension of Ancient Aliens that explores the theory that extraterrestrials have visited Earth for thousands of years.\n\nThe ninety-minute live experience celebrates the long-running program Ancient Aliens on The HISTORY Channel and features leading Ancient Astronaut theorist Giorgio A. Tsoukalos\, investigative mythologist William Henry\, UK government UFO investigator Nick Pope\, and ancient civilizations expert\, Jason Martell\, as they discuss thought-provoking extraterrestrial theories on fan-favorite topics from Ancient Egypt to the moon\, paving the long road to Disclosure.
X-ALT-DESC;FMTTYPE=text/html:<p>Ancient Aliens LIVE is an experiential extension of Ancient Aliens that explores the theory that extraterrestrials have visited Earth for thousands of years.</p>\n\n<p>The ninety-minute live experience celebrates the long-running program Ancient Aliens on The HISTORY Channel and features leading Ancient Astronaut theorist Giorgio A.&nbsp\;Tsoukalos\, investigative mythologist William Henry\, UK government UFO investigator Nick Pope\, and ancient civilizations expert\, Jason Martell\, as they discuss thought-provoking extraterrestrial theories on fan-favorite topics from Ancient Egypt to the moon\, paving the long road to Disclosure.&nbsp\;</p>\n
LOCATION:The Cabot 286 Cabot St Beverly\, MA 01915
UID:e.2981.35161
SEQUENCE:3
DTSTAMP:20260424T135850Z
URL:https://business.capeannchamber.com/events/details/ancient-aliens-live-35161
END:VEVENT

END:VCALENDAR
