BEGIN:VCALENDAR
VERSION:2.0
PRODID:-//ChamberMaster//Event Calendar 2.0//EN
METHOD:PUBLISH
X-PUBLISHED-TTL:P3D
REFRESH-INTERVAL:P3D
CALSCALE:GREGORIAN
BEGIN:VEVENT
DTSTART:20241212T130000Z
DTEND:20241213T023000Z
X-MICROSOFT-CDO-ALLDAYEVENT:FALSE
SUMMARY:An Evening With Squirrel Nut Zippers – Christmas Caravan
DESCRIPTION:A Festive Show For Zipsters\, Friends and Family\n\n\nThe Squirrel Nut Zippers bring their joyous\, raucous Christmas Caravan Tour back again performing all of the hits from Holidays past. From heartwarming ballads to boisterous dance tunes\, the band conjures an atmosphere nestled somewhere between the wondrous lights of Christmas and the backroom din of a speakeasy. This show is a must-see for any true music lover.\n\nThe Christmas Caravan show features holiday hits and classics\, selections from the Squirrel Nut Zipper's holiday album Christmas Caravan\, and the finest new and old Squirrel Nut Zippers catalog music. Inspired by 1920s jazz\, klezmer and old time music\, SNZ's endlessly curious and innovative leader Jimbo Mathus has concocted a show truly unique and original. This unique blend is on full display with the Christmas Caravan show\, which has increasingly grown in popularity\, selling out venues throughout the United States.\n\n"There is of course jazz of various stripes (mainly pre-WWII varieties) on this deliciously wide ranging night of entertainment\, but there's so much more: sounds\, identifiable and not\, emanating from mysterious times and places\, not the least of which is New Orleans\, their home base\, a land that\, forever and still\, has a mind of its own."   Relix
X-ALT-DESC;FMTTYPE=text/html:<p>A Festive Show For Zipsters\, Friends and Family</p>\n\n<div>\n<p>The&nbsp\;Squirrel Nut Zippers&nbsp\;bring their joyous\, raucous&nbsp\;Christmas Caravan&nbsp\;Tour&nbsp\;back again performing all of the hits from Holidays past. From heartwarming ballads to&nbsp\;boisterous dance tunes\, the band conjures an&nbsp\;atmosphere&nbsp\;nestled&nbsp\;somewhere between the wondrous lights of Christmas and the backroom din of a speakeasy. This show is a must-see for any true music lover.</p>\n\n<p>The&nbsp\;Christmas&nbsp\;Caravan show features holiday hits and classics\, selections from the Squirrel Nut Zipper&rsquo\;s holiday album&nbsp\;<em>Christmas Caravan</em>\, and the finest new and old Squirrel Nut Zippers catalog music. Inspired by 1920s jazz\, klezmer and old time music\, SNZ&rsquo\;s endlessly curious and innovative leader Jimbo Mathus has&nbsp\;concocted a&nbsp\;show truly unique and original. This unique blend is on full&nbsp\;display with the Christmas Caravan show\, which&nbsp\;has increasingly grown in popularity\, selling out venues throughout the United States.</p>\n\n<p>&ldquo\;There is of course jazz of various stripes (mainly pre-WWII varieties) on this deliciously wide ranging night of entertainment\, but there&rsquo\;s so much more: sounds\, identifiable and not\, emanating from mysterious times and places\, not the least of which is New Orleans\, their home base\, a land that\, forever and still\, has a mind of its own.&rdquo\; &ndash\;&nbsp\;<em>Relix</em></p>\n</div>\n
LOCATION:The Cabot 286 Cabot Street Beverly\, MA 01915
UID:e.2981.34182
SEQUENCE:3
DTSTAMP:20260424T123619Z
URL:https://business.capeannchamber.com/events/details/an-evening-with-squirrel-nut-zippers-christmas-caravan-34182
END:VEVENT

END:VCALENDAR
