BEGIN:VCALENDAR
VERSION:2.0
PRODID:-//ChamberMaster//Event Calendar 2.0//EN
METHOD:PUBLISH
X-PUBLISHED-TTL:P3D
REFRESH-INTERVAL:P3D
CALSCALE:GREGORIAN
BEGIN:VEVENT
DTSTART:20241206T010000Z
DTEND:20241206T033000Z
X-MICROSOFT-CDO-ALLDAYEVENT:FALSE
SUMMARY:An Evening With Shawn Colvin
DESCRIPTION:Over the course of three decades\, Shawn Colvin has established herself as a captivating performer and a revered storyteller\, well-deserving of the commendation of her peers and the devoted audiences who have been inspired by her artistry. And as she enters her third decade as a songwriter and performer\, she continues to reaffirm her status as a vital voice in music.
X-ALT-DESC;FMTTYPE=text/html:<span style="color:rgb(0\, 0\, 0)\; font-family:hco gotham ssm\,sans-serif\; font-size:16px">Over the course of three decades\, Shawn Colvin has established herself as a captivating performer and a revered storyteller\, well-deserving of the commendation of her peers and the devoted audiences who have been inspired by her artistry. And as she enters her third decade as a songwriter and performer\, she continues to reaffirm her status as a vital voice in music.</span>
LOCATION:The Cabot 286 Cabot Street Beverly\, MA 01915
UID:e.2981.34178
SEQUENCE:3
DTSTAMP:20260424T153210Z
URL:https://business.capeannchamber.com/events/details/an-evening-with-shawn-colvin-34178
END:VEVENT

END:VCALENDAR
