BEGIN:VCALENDAR
VERSION:2.0
PRODID:-//ChamberMaster//Event Calendar 2.0//EN
METHOD:PUBLISH
X-PUBLISHED-TTL:P3D
REFRESH-INTERVAL:P3D
CALSCALE:GREGORIAN
BEGIN:VEVENT
DTSTART:20250316T000000Z
DTEND:20250316T020000Z
X-MICROSOFT-CDO-ALLDAYEVENT:FALSE
SUMMARY:An Evening with Emerson\, Lake & Palmer
DESCRIPTION:The show combines video performance of  Emerson and Lake from a legendary sold out ROYAL ALBERT HALL ELP show from 1992 with live on stage performances of Carl Palmer with his own ELP Legacy band\, Paul Bielatowicz on guitar and Simon Fitzpatrick on bass and chapman stick. \nCreated by Carl Palmer and his management\, the show will be presented with the full cooperation of the Estates of Keith Emerson and Greg Lake. THIS IS NOT A TRIBUTE ACT   THIS IS THE REAL THING. Through modern technology they will reunite the band: Carl with his two bandmates\, playing together along with Keith Emerson & Greg Lake\, who both passed away in 2016. \n\nAll the musicians play together in sync to present a complete and authentic Emerson\, Lake & Palmer show.
X-ALT-DESC;FMTTYPE=text/html:The show combines video performance of&nbsp\; Emerson and Lake from a legendary sold out ROYAL ALBERT HALL ELP show from 1992 with live on stage performances of Carl Palmer with his own ELP Legacy band\, Paul Bielatowicz on guitar and Simon Fitzpatrick on bass and chapman stick.&nbsp\;\n<p>Created by Carl Palmer and his management\, the show will be presented with the full cooperation of the Estates of Keith Emerson and Greg Lake.&nbsp\;THIS IS NOT A TRIBUTE ACT &ndash\; THIS IS THE REAL THING.&nbsp\;Through modern technology they will reunite the band: Carl with his two bandmates\, playing together along with Keith Emerson &amp\; Greg Lake\, who both passed away in 2016.&nbsp\;</p>\n\n<p>All the musicians play together in sync to present a complete and authentic Emerson\, Lake &amp\; Palmer show.</p>\n
LOCATION:The Cabot 286 Cabot St Beverly\, MA 01915
UID:e.2981.35023
SEQUENCE:3
DTSTAMP:20260424T164659Z
URL:https://business.capeannchamber.com/events/details/an-evening-with-emerson-lake-palmer-35023
END:VEVENT

END:VCALENDAR
