BEGIN:VCALENDAR
VERSION:2.0
PRODID:-//ChamberMaster//Event Calendar 2.0//EN
METHOD:PUBLISH
X-PUBLISHED-TTL:P3D
REFRESH-INTERVAL:P3D
CALSCALE:GREGORIAN
BEGIN:VEVENT
DTSTART:20251220T234000Z
DTEND:20251221T010000Z
X-MICROSOFT-CDO-ALLDAYEVENT:FALSE
SUMMARY:An Enchanted Evening of Winter Solstice: Ritual & Mediumship with Annette Dion
DESCRIPTION:During this time of the year the veil between worlds is once again thin (as it is during Halloween\, or Samhain). It is the perfect time to gather in fellowship for a powerful and guided group meditation honoring the Winter Solstice\, and for merriment and enlightening conversation\, in the spirit of our ancestors. \n\n\n\nThis event will be hosted by Annette Dion\, a 30-years-in-practice professional psychic\, spiritual counselor and life coach. \n\n\n\nFeel free to bring a photo of a loved one you would like to connect with during the spirit gathering. We will have a short time of sharing and seasonal refreshments afterwards. Don't miss it! \n\n\n\nThis event will be held in memory of our spiritual sister friends who passed away from cancer over the past few years: Reiki Master/healer/teacher Heather Wolfe and Gera Schumacher\, who owned and ran Dark Star Philosophia in Rockport for many years. These women were heroines who supported the Divine feminine and all of us in the local spiritual community\, in more ways than can be counted.
X-ALT-DESC;FMTTYPE=text/html:<div>\n<div>\n<div style="text-align:center">\n<p><span style="color:rgb(0\, 0\, 0)">During this time of the year the veil between worlds is once again thin (as it is during Halloween\, or Samhain). It is the perfect time to gather </span><span style="color:rgb(0\, 0\, 0)">in</span><span style="color:rgb(0\, 0\, 0)"> fellows</span><span style="color:rgb(0\, 0\, 0)">h</span><span style="color:rgb(0\, 0\, 0)">ip fo</span><span style="color:rgb(0\, 0\, 0)">r</span><span style="color:rgb(0\, 0\, 0)"> </span><span style="color:rgb(0\, 0\, 0)">a</span><span style="color:rgb(0\, 0\, 0)"> powerful and </span><strong>guided group meditation honoring the Winter Solstice</strong><span style="color:rgb(0\, 0\, 0)">\, and for merriment and enlightening conversation\, </span><strong>in the spirit of our ancestors. </strong></p>\n</div>\n\n<div style="text-align:center">\n<p><span style="color:rgb(0\, 0\, 0)">This event will be hosted by </span><strong>Annette Dion</strong><span style="color:rgb(0\, 0\, 0)">\, a 30-years-in-practice professional psychic\, spiritual counselor and life coach. </span></p>\n</div>\n\n<div style="text-align:center">\n<p><strong>Feel free to bring a photo of a loved one you would like to connect with during the spirit gathering. </strong><span style="color:rgb(0\, 0\, 0)">We will have a short time of sharing and seasonal refreshments afterwards. Don&rsquo\;t miss it! </span></p>\n</div>\n\n<div style="text-align:center">\n<p><em>This event will be held in memory of our spiritual sister friends who passed away from canc</em><em>e</em><em>r o</em><em>ve</em><em>r</em><em> t</em><em>h</em><em>e</em><em> pa</em><em>s</em><em>t</em><em> </em><em>f</em><em>e</em><em>w yea</em><em>r</em><em>s: R</em><em>e</em><em>iki</em><em> </em><em>Master/he</em><em>al</em><em>er/</em><em>te</em><em>ache</em><em>r</em><em> Heath</em><em>e</em><em>r Wolfe an</em><em>d </em><em>Gera Schumacher\, who owned and ran Dark Star Philo</em><em>s</em><em>ophia in Rockpor</em><em>t</em><em> for m</em><em>a</em><em>ny y</em><em>e</em><em>ar</em><em>s</em><em>. These</em><em> </em><em>w</em><em>o</em><em>men</em><em> </em><em>were her</em><em>o</em><em>i</em><em>n</em><em>e</em><em>s</em><em> who supported the D</em><em>i</em><em>vine feminine and all </em><em>o</em><em>f </em><em>us</em><em> i</em><em>n</em><em> th</em><em>e</em><em> local </em><em>s</em><em>piritual community</em><em>\, </em><em>in more ways than can b</em><em>e</em><em> </em><em>co</em><em>u</em><em>n</em><em>t</em><em>e</em><em>d.&nbsp\;</em></p>\n</div>\n</div>\n</div>\n
LOCATION:Revive Wellness in the Salt Cave 232 Main St. Gloucester 01930
UID:e.2981.45793
SEQUENCE:3
DTSTAMP:20260425T141019Z
URL:https://business.capeannchamber.com/events/details/an-enchanted-evening-of-winter-solstice-ritual-mediumship-with-annette-dion-45793
END:VEVENT

END:VCALENDAR
