BEGIN:VCALENDAR
VERSION:2.0
PRODID:-//ChamberMaster//Event Calendar 2.0//EN
METHOD:PUBLISH
X-PUBLISHED-TTL:P3D
REFRESH-INTERVAL:P3D
CALSCALE:GREGORIAN
BEGIN:VEVENT
DTSTART:20250814T190000Z
DTEND:20250814T213000Z
X-MICROSOFT-CDO-ALLDAYEVENT:FALSE
SUMMARY:Film: School of Rock
DESCRIPTION:After being kicked out of his rock band\, Dewey Finn becomes a substitute teacher of an uptight elementary private school\, only to try and turn his class into a rock band.
X-ALT-DESC;FMTTYPE=text/html:<p><span style="color:rgb(0\, 0\, 0)\; font-family:open sans\,arial\,helvetica\,sans-serif\; font-size:16px">After being kicked out of his rock band\, Dewey Finn becomes a substitute teacher of an uptight elementary private school\, only to try and turn his class into a rock band.</span></p>\n
LOCATION:37 Main St\, Rockport\, MA 01966
UID:e.2981.36772
SEQUENCE:3
DTSTAMP:20260424T235201Z
URL:https://business.capeannchamber.com/events/details/american-patchwork-quartet-08-14-2025-36772
END:VEVENT

END:VCALENDAR
