BEGIN:VCALENDAR
VERSION:2.0
PRODID:-//ChamberMaster//Event Calendar 2.0//EN
METHOD:PUBLISH
X-PUBLISHED-TTL:P3D
REFRESH-INTERVAL:P3D
CALSCALE:GREGORIAN
BEGIN:VEVENT
DTSTART:20221218T003000Z
DTEND:20221218T020000Z
X-MICROSOFT-CDO-ALLDAYEVENT:FALSE
SUMMARY:AMERICAN ORIGINALS: A MORAVIAN CHRISTMAS
DESCRIPTION:The Gloucester Meetinghouse Foundation presents a holiday concert of chamber music from the Moravian community by The Musicians of the Old Post Road on Saturday\, December 17 at 7:30 p.m. in the Gloucester Meetinghouse at the corner of Middle and Church Streets in Gloucester.\n\n\n\nThe Musicians of the Old Post Road return for the sixth consecutive year in a candlelight evening of chamber music played on period instruments. They will be joined by soprano Jessica Petrus and mezzo-soprano Hilary Ann Walker.\n\n\n\nMusical selections are drawn from Moravian composers including several modern-day premieres of works penned by America's Moravian immigrants along with selections by Johann Joachim Quantz\, Carl Heinrich Graun\, and Johann Christoph Friedrich Bach\, the fifth son of J.S. Bach.\n\n\n\nTickets are available online at www.gloucestermeetinghouse.org or at the door. Preferred seating is $45 and general seating $30\; students with ID $10\; children under 12 free.
X-ALT-DESC;FMTTYPE=text/html:<strong>The Gloucester Meetinghouse Foundation presents a holiday concert of chamber music from the Moravian community by The Musicians of the Old Post Road on Saturday\, December 17 at 7:30 p.m. in the Gloucester Meetinghouse at the corner of Middle and Church Streets in Gloucester.</strong><br />\n<br />\nThe Musicians of the Old Post Road return for the sixth consecutive year in a candlelight evening of chamber music played on period instruments. They will be joined by soprano Jessica Petrus and mezzo-soprano Hilary Ann Walker.<br />\n<br />\nMusical selections are drawn from Moravian composers including several modern-day premieres of works penned by America&#39\;s Moravian immigrants along with selections by Johann Joachim Quantz\, Carl Heinrich Graun\, and Johann Christoph Friedrich Bach\, the fifth son of J.S. Bach.<br />\n<br />\nTickets are available online at www.gloucestermeetinghouse.org or at the door. Preferred seating is $45 and general seating $30\; students with ID $10\; children under 12 free.<br />\n&nbsp\;
LOCATION:The Gloucester Meetinghouse\, at the corner of Middle and Church Streets in Gloucester.
UID:e.2981.24569
SEQUENCE:3
DTSTAMP:20260424T090615Z
URL:https://business.capeannchamber.com/events/details/american-originals-a-moravian-christmas-24569
END:VEVENT

END:VCALENDAR
