BEGIN:VCALENDAR
VERSION:2.0
PRODID:-//ChamberMaster//Event Calendar 2.0//EN
METHOD:PUBLISH
X-PUBLISHED-TTL:P3D
REFRESH-INTERVAL:P3D
CALSCALE:GREGORIAN
BEGIN:VEVENT
DTSTART:20231207T210000Z
DTEND:20231208T010000Z
X-MICROSOFT-CDO-ALLDAYEVENT:FALSE
SUMMARY:Amanda Armstrong Group Holiday Party
DESCRIPTION:Please join us to celebrate the holidays at our office in Magnolia. An assortment of refreshments and beverages will be available to enjoy. Raffle tickets available for purchase to benefit Harborlight Homes. All are welcome! We hope you can stop by and say hi.
X-ALT-DESC;FMTTYPE=text/html:Please join us to celebrate the holidays at our office in Magnolia. An assortment of refreshments and beverages will be available to enjoy. Raffle tickets available for purchase to benefit Harborlight Homes. All are welcome! We hope you can stop by and say hi.&nbsp\;
LOCATION:Amanda Armstrong Group Office 35 Fuller Street\, Unit 100 Gloucester\, MA 01930
UID:e.2981.26566
SEQUENCE:3
DTSTAMP:20260421T215020Z
URL:https://business.capeannchamber.com/events/details/amanda-armstrong-group-holiday-party-26566
END:VEVENT

END:VCALENDAR
