BEGIN:VCALENDAR
VERSION:2.0
PRODID:-//ChamberMaster//Event Calendar 2.0//EN
METHOD:PUBLISH
X-PUBLISHED-TTL:P3D
REFRESH-INTERVAL:P3D
CALSCALE:GREGORIAN
BEGIN:VEVENT
DTSTART:20221231T000000Z
DTEND:20221231T030000Z
X-MICROSOFT-CDO-ALLDAYEVENT:FALSE
SUMMARY:ALT New Year's Eve Party
DESCRIPTION:Ready to make an IMPACT in your community in 2023?\n\n\n\nParty for good at the ALT New Year's Eve Party\, brought to you by a collaborative collective of Cape Ann nonprofits on December 30 at the @Beauport Hotel. We're inviting the next generation of changemakers to get down to live music (The DubTones)\, enjoy delicious food and drink\, and learn more about how you can make an impact in your own back yard in 2023. \n\n\n\nSnag your tickets here: https://bit.ly/CapeAnnALTNYE\n\n\n\nDOWNLOAD FLYER\n\n\n\nThe Night Before New Year's Eve\n\nLive Music - Cash Bar - Hors d'Oeuvres\n\n\n\nThe Host Committee includes: Action\, Inc.\, Backyard Growers\, Gloucester 400+\, Gloucester Stage\, Greater Cape Ann Chamber of Commerce\, Harborlight Community Partners\, Pathways for Children\, Rockport Art Association & Museum\, Town Green\, Inc.\, and Wellspring House.\n\n\n\nTo learn more\, visit Greater Cape Ann Development Warriors.
X-ALT-DESC;FMTTYPE=text/html:<span style="font-size:16px\;"><span style="background:white\;"><span style="color:black\;"><span style="font-family:arial\,sans-serif\;">Ready to make an IMPACT in your community in 2023?<br />\n<br />\nParty for good at the ALT New Year&#39\;s Eve Party\, brought to you by a collaborative collective of Cape Ann nonprofits on December 30 at the @Beauport Hotel. We&#39\;re inviting the next generation of changemakers to get down to live music (The DubTones)\, enjoy delicious food and drink\, and learn more about how you can make an impact in your own back yard in 2023.&nbsp\;</span></span></span><br />\n<br />\n<span style="background:white\;"><span style="color:black\;"><span style="font-family:arial\,sans-serif\;">Snag your tickets here:&nbsp\;</span></span></span><span style="background:white\;"><span style="color:black\;"><a href="https://us-east-2.protection.sophos.com?d=bit.ly&amp\;u=aHR0cHM6Ly9iaXQubHkvQ2FwZUFubkFMVE5ZRQ==&amp\;i=NjEwODA3ZTQ3NzMyZTYwZjM5ZTMxYmMz&amp\;t=bnlmMTRHZFJYNGE2eDREMFNDajFNVW5jbXgzNFVDOGRvM2YvMTBKYzBBVT0=&amp\;h=5373af4ec76042a4b88ad437eabc8ade&amp\;s=AVNPUEhUT0NFTkNSWVBUSVZ3rwy6Nvqxsh0hroOoK49WctlZvM1PT9BW95qkA_fEbQ">https://bit.ly/CapeAnnALTNYE</a></span></span><br />\n<br />\n<a href="https://chambermaster.blob.core.windows.net/userfiles/UserFiles/chambers/2981/File/PosterDesignALTNYE2Final-reduced.pdf">DOWNLOAD FLYER</a><br />\n<br />\nThe Night Before New Year&#39\;s Eve<br />\nLive Music - Cash Bar - Hors d&#39\;Oeuvres</span><br />\n<br />\nThe Host Committee includes: Action\, Inc.\, Backyard Growers\, Gloucester 400+\, Gloucester Stage\, Greater Cape Ann Chamber of Commerce\, Harborlight Community Partners\, Pathways for Children\, Rockport Art Association &amp\; Museum\, Town Green\, Inc.\, and Wellspring House.<br />\n<br />\nTo learn more\, visit <a href="https://capeannchamber.com/committees/development-warriors/">Greater Cape Ann Development Warriors</a>.
LOCATION:Beauport Hotel Gloucester
UID:e.2981.24580
SEQUENCE:3
DTSTAMP:20260424T090158Z
URL:https://business.capeannchamber.com/events/details/alt-new-year-s-eve-party-24580
END:VEVENT

END:VCALENDAR
