BEGIN:VCALENDAR
VERSION:2.0
PRODID:-//ChamberMaster//Event Calendar 2.0//EN
METHOD:PUBLISH
X-PUBLISHED-TTL:P3D
REFRESH-INTERVAL:P3D
CALSCALE:GREGORIAN
BEGIN:VEVENT
DTSTART:20250911T234500Z
DTEND:20250912T030000Z
X-MICROSOFT-CDO-ALLDAYEVENT:FALSE
SUMMARY:Aidan Gittings Blues Band & Christian Smith with Special Guest Walshy
DESCRIPTION:Reserved Seats $20 + $6.95 service fee\n\nGA Standing $15 + $6.95 service fee\n\n7:00pm Doors / 8:00pm Show\n\nThis is an ALL AGES show. Under 18 must be accompanied by a parent or guardian.\n\n\n\nAidan Gittings\n\nAs a blues pianist and bandleader\, Aidan brings a dynamic\, piano-driven blues experience designed to captivate audiences and keep the energy alive all night. Leading a tight\, professional band\, he delivers soulful\, groove-packed performances that resonate with crowds and create memorable nights.\n\n\n\nChristian Smith is a 21-year-old pop artist from Massachusetts. He's had the gift of songwriting since he was 5 years old\, constantly writing and going through songbooks. Drawing inspiration from personal experiences and other artists such as Justin Bieber and The Kid Laroi\; Christian's music resonates with themes of love\, self-discovery\, and resilience.\n\n\n\nWalshy is a 23-year-old musician\, singer\, and rapper from Gloucester\, MA\, making waves with his unique sound and style. Despite his small stature\, his talent looms large\, capturing listeners with a mix of catchy hooks and clever lyrics. His songs\, like "Same Thing as You" and "Speed Dial\," showcase his ability to blend relatable themes with a smooth flow\, resonating with fans who appreciate both his authenticity and creativity. Walshy's music reflects the experiences of a young artist on the rise\, balancing laid-back vibes with a confident edge that hints at even bigger things to come.
X-ALT-DESC;FMTTYPE=text/html:<span style="color:rgb(64\, 64\, 65)\; font-family:open sans\,sans-serif\; font-size:14px">Reserved Seats $20 + $6.95 service fee</span><br />\n<span style="color:rgb(64\, 64\, 65)\; font-family:open sans\,sans-serif\; font-size:14px">GA Standing $15 + $6.95 service fee</span><br />\n<span style="color:rgb(64\, 64\, 65)\; font-family:open sans\,sans-serif\; font-size:14px">7:00pm Doors / 8:00pm Show</span><br />\n<span style="color:rgb(64\, 64\, 65)\; font-family:open sans\,sans-serif\; font-size:14px">This is an ALL AGES show. Under 18 must be accompanied by a parent or guardian.</span><br />\n<br />\n<span style="color:rgb(64\, 64\, 65)\; font-family:open sans\,sans-serif\; font-size:14px">Aidan Gittings</span><br />\n<span style="color:rgb(64\, 64\, 65)\; font-family:open sans\,sans-serif\; font-size:14px">As a blues pianist and bandleader\, Aidan brings a dynamic\, piano-driven blues experience designed to captivate audiences and keep the energy alive all night. Leading a tight\, professional band\, he delivers soulful\, groove-packed performances that resonate with crowds and create memorable nights.</span><br />\n<br />\n<span style="color:rgb(64\, 64\, 65)\; font-family:open sans\,sans-serif\; font-size:14px">Christian Smith is a 21-year-old pop artist from Massachusetts. He&rsquo\;s had the gift of songwriting since he was 5 years old\, constantly writing and going through songbooks. Drawing inspiration from personal experiences and other artists such as Justin Bieber and The Kid Laroi\; Christian&rsquo\;s music resonates with themes of love\, self-discovery\, and resilience.</span><br />\n<br />\n<span style="color:rgb(64\, 64\, 65)\; font-family:open sans\,sans-serif\; font-size:14px">Walshy is a 23-year-old musician\, singer\, and rapper from Gloucester\, MA\, making waves with his unique sound and style. Despite his small stature\, his talent looms large\, capturing listeners with a mix of catchy hooks and clever lyrics. His songs\, like &quot\;Same Thing as You&quot\; and &quot\;Speed Dial\,&quot\; showcase his ability to blend relatable themes with a smooth flow\, resonating with fans who appreciate both his authenticity and creativity. Walshy&#39\;s music reflects the experiences of a young artist on the rise\, balancing laid-back vibes with a confident edge that hints at even bigger things to come.</span>
LOCATION:The Cut 177 Main Street Gloucester\, MA 01930
UID:e.2981.43013
SEQUENCE:3
DTSTAMP:20260425T011529Z
URL:https://business.capeannchamber.com/events/details/aidan-gittings-blues-band-christian-smith-with-special-guest-walshy-43013
END:VEVENT

END:VCALENDAR
