BEGIN:VCALENDAR
VERSION:2.0
PRODID:-//ChamberMaster//Event Calendar 2.0//EN
METHOD:PUBLISH
X-PUBLISHED-TTL:P3D
REFRESH-INTERVAL:P3D
CALSCALE:GREGORIAN
BEGIN:VEVENT
DTSTART:20140731T183000Z
DTEND:20140731T203000Z
X-MICROSOFT-CDO-ALLDAYEVENT:FALSE
SUMMARY:Afternoon Tea
DESCRIPTION:Bring friends and family to an elegant tea on the terrace overlooking Gloucester Harbor. The tea includes scones\, finger sandwiches\, and sweets\, and is accompanied by a classical guitarist playing in the background. A tour of the house is offered after each sitting. Sunhats are recommended. Rain or shine.\n$25 Historic New England members\, $35 nonmembers
X-ALT-DESC;FMTTYPE=text/html:Bring friends and family to an elegant tea on the terrace overlooking Gloucester Harbor. The tea includes scones\, finger sandwiches\, and sweets\, and is accompanied by a classical guitarist playing in the background. A tour of the house is offered after each sitting. Sunhats are recommended. Rain or shine.\n$25 Historic New England members\, $35 nonmembers
LOCATION:75 Eastern Point Blvd\, Gloucester \, MA 01930 Directions detail: Take Route I-95/128 north to the end. At second set of lights after the second rotary\, take East Main Street 1.5 miles\, approximately eight minutes\, to the stone pillars at the entrance to Eastern Point Boulevard. Proceed through the pillars and follow Eastern Point Boulevard .5 mile to Beauport. Parking: The Beauport parking lot is across the street from the house.
UID:e.2981.1343
SEQUENCE:3
DTSTAMP:20260419T154604Z
URL:https://business.capeannchamber.com/events/details/afternoon-tea-07-31-2014-1343
END:VEVENT

END:VCALENDAR
