BEGIN:VCALENDAR
VERSION:2.0
PRODID:-//ChamberMaster//Event Calendar 2.0//EN
METHOD:PUBLISH
X-PUBLISHED-TTL:P3D
REFRESH-INTERVAL:P3D
CALSCALE:GREGORIAN
BEGIN:VEVENT
DTSTART:20221109T000000Z
DTEND:20221109T020000Z
X-MICROSOFT-CDO-ALLDAYEVENT:FALSE
SUMMARY:Aeolus Quartet at Shalin Liu
DESCRIPTION:With performances acclaimed for both "high-octane" excitement (Strad) and "dusky lyricism" (New York Times)\, the Aeolus Quartet has been awarded prizes at nearly every major competition in the United States and performed across the globe with showings "worthy of a major-league quartet" (Dallas Morning News).
X-ALT-DESC;FMTTYPE=text/html:With performances acclaimed for both &ldquo\;high-octane&rdquo\; excitement (Strad) and &ldquo\;dusky lyricism&rdquo\; (New York Times)\, the Aeolus Quartet has been awarded prizes at nearly every major competition in the United States and performed across the globe with showings &ldquo\;worthy of a major-league quartet&rdquo\; (Dallas Morning News).&nbsp\;&nbsp\;<br />\n&nbsp\;
LOCATION:Shalin Liu Performance Center 37 Main St. Rockport\, MA 01966
UID:e.2981.23065
SEQUENCE:3
DTSTAMP:20260424T123128Z
URL:https://business.capeannchamber.com/events/details/aeolus-quartet-at-shalin-liu-23065
END:VEVENT

END:VCALENDAR
