BEGIN:VCALENDAR
VERSION:2.0
PRODID:-//ChamberMaster//Event Calendar 2.0//EN
METHOD:PUBLISH
X-PUBLISHED-TTL:P3D
REFRESH-INTERVAL:P3D
CALSCALE:GREGORIAN
BEGIN:VEVENT
DTSTART;VALUE=DATE:20250906
DTEND;VALUE=DATE:20250926
TRANSP:TRANSPARENT
X-MICROSOFT-CDO-ALLDAYEVENT:TRUE
SUMMARY:Abstracts on the Coast — Jesse Mireles Solo Show - Rockport Art Association & Museum
DESCRIPTION:Abstracts On The Coast   Jesse Mireles Solo Show\n\nRockport Art Association & Museum\n\nMartha Moore Room\n\nSaturday\, September 6 - Thursday\, September 25\, 2025\n\nReception: Saturday\, September 6\, 2025\, 1:00 - 3:00 PM\n\n\n\nAbstracts On The Coast brings a rare contemporary voice to Rockport's rich artistic legacy. With some newly created works and award-winning pieces\, the show captures the spirit and mystery of the coastal landscape through abstraction\, offering viewers the artist's novel perspective of the land and the seacoast.\n\n\n\nAbout the Artist:\n\nJesse Mireles is a Mexican-born abstract artist whose work blends emotional spontaneity\n\nwith bold visual language. Prior to his transition to abstract art\, Mireles enjoyed an\n\ninternationally recognized career as a graphic designer and illustrator. His abstract paintings\n\nare known for their expressive energy\, layered surfaces\, and evocative themes\, often\n\ninspired by nature and intuition. Abstracts On The Coast marks his first solo show at the\n\nRockport Art Association & Museum.
X-ALT-DESC;FMTTYPE=text/html:Abstracts On The Coast &mdash\; Jesse Mireles Solo Show<br />\nRockport Art Association &amp\; Museum<br />\nMartha Moore Room<br />\nSaturday\, September 6 - Thursday\, September 25\, 2025<br />\n<strong>Reception: Saturday\, September 6\, 2025\, 1:00 - 3:00 PM</strong><br />\n<br />\nAbstracts On The Coast brings a rare contemporary voice to Rockport&#39\;s rich artistic legacy. With some newly created works and award-winning pieces\, the show captures the spirit and mystery of the coastal landscape through abstraction\, offering viewers the artist&#39\;s novel perspective of the land and the seacoast.<br />\n<br />\n<strong>About the Artist:</strong><br />\nJesse Mireles is a Mexican-born abstract artist whose work blends emotional spontaneity<br />\nwith bold visual language. Prior to his transition to abstract art\, Mireles enjoyed an<br />\ninternationally recognized career as a graphic designer and illustrator. His abstract paintings<br />\nare known for their expressive energy\, layered surfaces\, and evocative themes\, often<br />\ninspired by nature and intuition. Abstracts On The Coast marks his first solo show at the<br />\nRockport Art Association &amp\; Museum.<br />\n&nbsp\;
LOCATION:Rockport Art Association & Museum 12 Main Street Rockport\, MA 01966
UID:e.2981.43005
SEQUENCE:3
DTSTAMP:20260422T105018Z
URL:https://business.capeannchamber.com/events/details/abstracts-on-the-coast-jesse-mireles-solo-show-rockport-art-association-museum-43005
END:VEVENT

END:VCALENDAR
