BEGIN:VCALENDAR
VERSION:2.0
PRODID:-//ChamberMaster//Event Calendar 2.0//EN
METHOD:PUBLISH
X-PUBLISHED-TTL:P3D
REFRESH-INTERVAL:P3D
CALSCALE:GREGORIAN
BEGIN:VEVENT
DTSTART:20231201T210000Z
DTEND:20231201T230000Z
X-MICROSOFT-CDO-ALLDAYEVENT:FALSE
SUMMARY:A Very Essex Christmas Celebration
DESCRIPTION:Santa & Mrs. Claus arrive by boat at 5pm at the Essex Town Landing. There will be snacks\, music & fun for all!
X-ALT-DESC;FMTTYPE=text/html:Santa &amp\; Mrs. Claus arrive by boat at 5pm at the Essex Town Landing. There will be snacks\, music &amp\; fun for all!&nbsp\;
LOCATION:Essex Shipbuilding @ Essex Town Landing
UID:e.2981.26548
SEQUENCE:3
DTSTAMP:20260421T214958Z
URL:https://business.capeannchamber.com/events/details/a-very-essex-christmas-celebration-26548
END:VEVENT

END:VCALENDAR
