BEGIN:VCALENDAR
VERSION:2.0
PRODID:-//ChamberMaster//Event Calendar 2.0//EN
METHOD:PUBLISH
X-PUBLISHED-TTL:P3D
REFRESH-INTERVAL:P3D
CALSCALE:GREGORIAN
BEGIN:VEVENT
DTSTART:20221202T210000Z
DTEND:20221202T230000Z
X-MICROSOFT-CDO-ALLDAYEVENT:FALSE
SUMMARY:A Very Essex Christmas Celebration!
DESCRIPTION:Welcome Santa by Boat at the Town Landing - Snacks\, Entertainment\, Fun for All!
X-ALT-DESC;FMTTYPE=text/html:<h1 class="eventitem-title" style="margin-top: 0px\; text-rendering: optimizelegibility\; font-family: &quot\;Fjalla One&quot\;\; letter-spacing: 0.01em\; color: rgb(82\, 81\, 81)\; word-break: break-word\; overflow-wrap: break-word\; font-size: 28px !important\; margin-right: 0px !important\; margin-bottom: 34px !important\; margin-left: 0px !important\; line-height: 1.2em !important\; padding: 0px !important\;"><span style="font-size:16px\;"><span style="font-family:arial\;">Welcome Santa by Boat at the Town Landing&nbsp\;- Snacks\, Entertainment\, Fun for All!</span></span></h1>\n
LOCATION:Essex Historical Society & Shipbuilding Museum66 Main Street\, Essex\, MA\, 01929
UID:e.2981.23294
SEQUENCE:3
DTSTAMP:20260424T090425Z
URL:https://business.capeannchamber.com/events/details/a-very-essex-christmas-celebration-23294
END:VEVENT

END:VCALENDAR
