BEGIN:VCALENDAR
VERSION:2.0
PRODID:-//ChamberMaster//Event Calendar 2.0//EN
METHOD:PUBLISH
X-PUBLISHED-TTL:P3D
REFRESH-INTERVAL:P3D
CALSCALE:GREGORIAN
BEGIN:VEVENT
DTSTART:20220507T140000Z
DTEND:20220507T220000Z
X-MICROSOFT-CDO-ALLDAYEVENT:FALSE
SUMMARY:A Special Celebration of Wellspring's 40 Years: Voices of Belonging-Immigration Stories in Light & Sound--Free Community Event
DESCRIPTION:In celebration of Wellspring's 40th year\, we are planning a spectacular weekend event on May 6-7\, 2022 with Stephanie Benenson and Harbor Voices Public Art. Voices of Belonging\, an immigration-themed\, art installation for the community to experience. Through art\, light and sound\, this extraordinary event will showcase stories of immigrants who are working with Wellspring to succeed. \n\n\n\nOpen for free to the public on Saturday\, May 7 from 10:00 am to 6:00 pm. Family-friendly\, accessible event. Groups encouraged! Timed tickets encouraged at Eventbrite.
X-ALT-DESC;FMTTYPE=text/html:<p><span style="font-size:14px"><span style="color:rgb(0\, 0\, 0)\; font-family:arial">In celebration of Wellspring&rsquo\;s 40th year\, we are planning a spectacular weekend event on May 6-7\, 2022 with Stephanie Benenson and Harbor Voices Public Art.&nbsp\;</span><em>Voices of Belonging\,&nbsp\;</em>an immigration-themed\, art installation for the community to experience. Through art\, light and sound\, this extraordinary event will showcase stories of immigrants who are working with Wellspring to succeed.&nbsp\;<br />\n<br />\nOpen for free to the public on Saturday\, May 7 from 10:00 am to 6:00 pm.&nbsp\;Family-friendly\, accessible event. Groups encouraged!&nbsp\;<span style="color:rgb(0\, 0\, 0)\; font-family:arial">Timed tickets encouraged at&nbsp\;</span><a href="https://www.eventbrite.com/e/wellsprings-40th-year-celebration-voices-of-belonging-tickets-298314906917" style="font-family: arial\; font-size: 14.666666984558105px\;">Eventbrite</a><span style="color:rgb(0\, 0\, 0)\; font-family:arial">.</span></span></p>\n\n<p>&nbsp\;</p>\n\n<p>&nbsp\;</p>\n\n<p>&nbsp\;</p>\n
LOCATION:44 Commercial Street Gloucester\, MA 01930
UID:e.2981.22083
SEQUENCE:3
DTSTAMP:20260422T182316Z
URL:https://business.capeannchamber.com/events/details/a-special-celebration-of-wellspring-s-40-years-voices-of-belonging-immigration-stories-in-light-sound-free-community-event-22083
END:VEVENT

END:VCALENDAR
