BEGIN:VCALENDAR
VERSION:2.0
PRODID:-//ChamberMaster//Event Calendar 2.0//EN
METHOD:PUBLISH
X-PUBLISHED-TTL:P3D
REFRESH-INTERVAL:P3D
CALSCALE:GREGORIAN
BEGIN:VEVENT
DTSTART:20251207T000000Z
DTEND:20251207T020000Z
X-MICROSOFT-CDO-ALLDAYEVENT:FALSE
SUMMARY:A Holiday Evening with Chelsea Berry
DESCRIPTION:North Shore favorite and acclaimed singer-songwriter Chelsea Berry returns to the Great Hall at Hammond Castle Museum for two special holiday performances\, accompanied by Kristen Miller on cello. Known for her soulful voice and heartfelt songwriting\, Chelsea will perform selections from her holiday album Ring the Bells\, along with songs that celebrate joy and togetherness.\n\nOn Saturday (Performance at 7:00 pm)\, guests have two ticket options. Those with VIP Tickets arrive at 6 pm for an intimate Meet & Greet with Chelsea\, including a complimentary champagne toast and preferred seating. Capacity is limited for this exclusive experience. General Admission ticket holders are welcome to arrive at 6:30 pm for the 7:00 pm performance.\n\nOn Sunday\, (Doors at 5:00 pm | Performance at 5:30 pm)\, families are invited to join in festive sing-alongs\, creating a fun and memorable night for all ages.\n\nChelsea has deep roots on the North Shore and Cape Ann\, with past sold-out performances at some of the region's most beloved venues. Her 2019 concerts at Hammond Castle Museum remain among our most memorable evenings. Over a 25-year career spanning twelve albums\, she has toured coast to coast\, sharing stages with legendary artists including Mavis Staples\, Livingston Taylor\, Chris Isaak\, and Shawn Colvin.
X-ALT-DESC;FMTTYPE=text/html:<p>North Shore favorite and acclaimed singer-songwriter Chelsea Berry returns to the Great Hall at Hammond Castle Museum for two special holiday performances\, accompanied by Kristen Miller&nbsp\;on cello. Known for her soulful voice and heartfelt songwriting\, Chelsea will perform selections from her holiday album Ring the Bells\, along with songs that celebrate joy and togetherness.</p>\n\n<p>On Saturday (Performance at 7:00 pm)\, guests have two ticket options. Those with VIP Tickets arrive at 6 pm for an intimate Meet &amp\; Greet with Chelsea\, including a complimentary champagne toast and preferred seating. Capacity is limited for this exclusive experience. General Admission ticket holders are welcome to arrive at 6:30 pm for the 7:00 pm performance.</p>\n\n<p>On Sunday\, (Doors at 5:00 pm | Performance at 5:30 pm)\, families are invited to join in festive sing-alongs\, creating a fun and memorable night for all ages.</p>\n\n<p>Chelsea has deep roots on the North Shore and Cape Ann\, with past sold-out performances at some of the region&rsquo\;s most beloved venues. Her 2019 concerts at Hammond Castle Museum remain among our most memorable evenings. Over a 25-year career spanning twelve albums\, she has toured coast to coast\, sharing stages with legendary artists including Mavis Staples\, Livingston Taylor\, Chris Isaak\, and Shawn Colvin.</p>\n
LOCATION:Hammond Castle Museum 80 Hesperus Avenue Gloucester\, MA 01930
UID:e.2981.45444
SEQUENCE:3
DTSTAMP:20260422T021902Z
URL:https://business.capeannchamber.com/events/details/a-holiday-evening-with-chelsea-berry-45444
END:VEVENT

END:VCALENDAR
