BEGIN:VCALENDAR
VERSION:2.0
PRODID:-//ChamberMaster//Event Calendar 2.0//EN
METHOD:PUBLISH
X-PUBLISHED-TTL:P3D
REFRESH-INTERVAL:P3D
CALSCALE:GREGORIAN
BEGIN:VEVENT
DTSTART:20241215T210000Z
DTEND:20241216T000000Z
X-MICROSOFT-CDO-ALLDAYEVENT:FALSE
SUMMARY:A Ceremony of Carols
DESCRIPTION:At 4:00 on December 15th the First Parish Church Choir will be joined by members of the Somerville Chorus in a performance of A Ceremony of Carols.  Both choruses are directed by Dr. Herman Weiss. The singers will be accompanied by concert harpist Mary Jane Rupert with soloist Rebecca Shrimpton\, as well as guest soprano Erin Merceruio Nelson. The combined choral performance\, which will also include a familiar Ukrainian composition\, Carol of the Bells\, and other selections\, will climax with audience participation in a 'carol sing'.  It will be held in the sanctuary of First Parish Church\, Congregational\, 10 Central St. in Manchester.  The public is invited to join us for the concert and 'carol sing' and a light reception to follow.  You don't need tickets but a free-will offering will be appreciated. Questions can be directed to 978-526-7661 ext 1.
X-ALT-DESC;FMTTYPE=text/html:<span style="background-color:rgb(255\, 255\, 255)\; color:rgb(34\, 34\, 34)\; font-family:arial\,sans-serif\; font-size:small">At 4:00 on December 15</span><sup>th</sup><span style="background-color:rgb(255\, 255\, 255)\; color:rgb(34\, 34\, 34)\; font-family:arial\,sans-serif\; font-size:small">&nbsp\;the First Parish Church Choir will be joined by members of the Somerville Chorus in a performance of&nbsp\;</span><em>A Ceremony of Carols</em><span style="background-color:rgb(255\, 255\, 255)\; color:rgb(34\, 34\, 34)\; font-family:arial\,sans-serif\; font-size:small">.&nbsp\; Both choruses are directed by Dr. Herman Weiss. The singers will be accompanied by concert harpist Mary Jane Rupert with soloist Rebecca Shrimpton\, as well as guest soprano Erin Merceruio Nelson. The combined choral performance\, which will also include a familiar Ukrainian composition\,&nbsp\;</span><em>Carol of the Bells</em><span style="background-color:rgb(255\, 255\, 255)\; color:rgb(34\, 34\, 34)\; font-family:arial\,sans-serif\; font-size:small">\, and other selections\, will climax with audience participation in a &#39\;carol sing&#39\;.&nbsp\;&nbsp\;It will be held in the sanctuary of First Parish Church\, Congregational\, 10 Central St. in Manchester.&nbsp\;&nbsp\;The public is invited to join us for the concert and &#39\;carol sing&#39\; and a light reception to follow.&nbsp\;&nbsp\;You don&#39\;t need tickets but a free-will offering will be appreciated. Questions can be directed to 978-526-7661 ext 1.</span>
LOCATION:10 Central St Manchester by the Sea \, MA
UID:e.2981.34244
SEQUENCE:3
DTSTAMP:20260424T123729Z
URL:https://business.capeannchamber.com/events/details/a-ceremony-of-carols-34244
END:VEVENT

END:VCALENDAR
