BEGIN:VCALENDAR
VERSION:2.0
PRODID:-//ChamberMaster//Event Calendar 2.0//EN
METHOD:PUBLISH
X-PUBLISHED-TTL:P3D
REFRESH-INTERVAL:P3D
CALSCALE:GREGORIAN
BEGIN:VEVENT
DTSTART:20200922T230000Z
DTEND:20200923T000000Z
X-MICROSOFT-CDO-ALLDAYEVENT:FALSE
SUMMARY:A Cape Ann Conversation on Climate Change with Bill McKibben
DESCRIPTION:Sawyer Free Library Presents A Cape Ann Conversation on Climate Change with Bill McKibben\n\nDavid Abel\, Pulitzer-prize winning Boston Globe reporter\, will interview Bill McKibben\, environmental advocate\, author\, and founder of 350.org\, about lessons learned and future solutions concerning the climate crisis.\n\nThis program is taking place remotely and will be available to the public to stream on Facebook Live.\n\nPresented partnership with:  Backyard Growers\, Gloucester Education Fund\, Manship Artist Residency + Studios\, Maritime Gloucester\, Ocean Alliance and TownGreen 2025\n\nFor more information visit SawyerFreeLibrary.org or call 978-325-5500
X-ALT-DESC;FMTTYPE=text/html:<p>Sawyer Free Library Presents A Cape Ann Conversation on Climate Change with Bill McKibben</p>\n\n<p>David Abel\, Pulitzer-prize winning Boston Globe reporter\, will interview Bill McKibben\, environmental advocate\, author\, and founder of <a href="http://350.org/"><span style="color:rgb(9\, 79\, 209)">350.org</span></a>\, about lessons learned and future solutions concerning the climate crisis.</p>\n\n<p>This program is taking place remotely and will be available to the public to stream on Facebook Live.</p>\n\n<p>Presented partnership with:&nbsp\; Backyard Growers\, Gloucester Education Fund\, Manship Artist Residency + Studios\, Maritime Gloucester\, Ocean Alliance and TownGreen 2025</p>\n\n<p>For more information visit <a href="http://sawyerfreelibrary.org/"><span style="color:rgb(9\, 79\, 209)">SawyerFreeLibrary.org</span></a> or call 978-325-5500</p>\n
LOCATION:This program is taking place remotely and will be available to the public to stream on Facebook Live.
UID:e.2981.20025
SEQUENCE:3
DTSTAMP:20260419T181811Z
URL:https://business.capeannchamber.com/events/details/a-cape-ann-conversation-on-climate-change-with-bill-mckibben-20025
END:VEVENT

END:VCALENDAR
