BEGIN:VCALENDAR
VERSION:2.0
PRODID:-//ChamberMaster//Event Calendar 2.0//EN
METHOD:PUBLISH
X-PUBLISHED-TTL:P3D
REFRESH-INTERVAL:P3D
CALSCALE:GREGORIAN
BEGIN:VEVENT
DTSTART:20221217T220000Z
DTEND:20221217T230000Z
X-MICROSOFT-CDO-ALLDAYEVENT:FALSE
SUMMARY:77th Annual Rockport Christmas Pageant
DESCRIPTION:A torch-lit live re-enactment of the Nativity.\n\nRockport's 77th Annual Live Christmas Pageant is around the corner!\n\nIn the spirit of the holidays\, the Rockport Art Association and Museum once again presents the Annual Live Christmas Pageant. The pageant will be held Saturday\, December 17\, 2022 at 5 PM  \n\n \n\nEach year hundreds of spectators gather to watch the live re-enactment of the story of baby Jesus\, Mary and Joseph\, the Bethlehem inn and the stable. The pageant begins with a torch lit procession which starts at Dock Square and proceeds up Main Street to the Congregational Church. Here the story of Jesus' birth is brought to life through a live narration.\n\n \n\nThe pageant was originated by Dr. William F. Strangman and Mrs. Aldro Hibbard in 1947\, as a gift from the Rockport Art Association to the village. It remains a solid holiday season fixture to this day.
X-ALT-DESC;FMTTYPE=text/html:<span style="font-family: Merriweather\; font-size: 14px\;">A torch-lit live re-enactment of the Nativity.</span><br />\n<strong><span style="color:black\;">Rockport&rsquo\;s 77th </span>Annual Live Christmas Pageant is around the corner!</strong><br />\nIn the spirit of the holidays\, the Rockport Art Association and Museum once again presents the Annual Live Christmas Pageant. The pageant will be held Saturday\, December 17\, 2022 at 5 PM&nbsp\;&nbsp\;<br />\n&nbsp\;<br />\nEach year hundreds of spectators gather to watch the live re-enactment of the story of baby Jesus\, Mary and Joseph\, the Bethlehem inn and the stable. The pageant begins with a torch lit procession which starts at Dock Square and proceeds up Main Street to the Congregational Church. Here the story of Jesus&rsquo\; birth is brought to life through a live narration.<br />\n&nbsp\;<br />\n<span style="color:black\;">The pageant was originated by Dr. William F. Strangman and Mrs. Aldro Hibbard in 1947\, as a gift from the Rockport Art Association to the village. It remains a solid holiday season fixture to this day. </span><br />\n&nbsp\;<br />\n<font face="calibri\, sans-serif"><span style="font-size: 16px\;">&nbsp\;</span></font><br />\n<font color="#ff0000"><b>&nbsp\;</b></font><br />\n&nbsp\;
LOCATION:Dock Square and Main Street Rockport\, MA 01966
UID:e.2981.23287
SEQUENCE:3
DTSTAMP:20260424T090217Z
URL:https://business.capeannchamber.com/events/details/77th-annual-rockport-christmas-pageant-23287
END:VEVENT

END:VCALENDAR
