BEGIN:VCALENDAR
VERSION:2.0
PRODID:-//ChamberMaster//Event Calendar 2.0//EN
METHOD:PUBLISH
X-PUBLISHED-TTL:P3D
REFRESH-INTERVAL:P3D
CALSCALE:GREGORIAN
BEGIN:VEVENT
DTSTART:20260619T130000Z
DTEND:20260619T150000Z
X-MICROSOFT-CDO-ALLDAYEVENT:FALSE
SUMMARY:6th Annual Gloucester Juneteenth Celebration
DESCRIPTION:Join the Cape Ann Museum at Gloucester City Hall to celebrate Juneteenth\, the oldest nationally celebrated commemoration of the ending of slavery in the United States.\n\n9:00 a.m.   9:30 a.m. Flag raising with comments from city officials and CAM staff outside City Hall.\n\n9:30 a.m.   11:00 a.m. Community reading of Frederick Douglass's What to the Slave is the Fourth of July? Following the reading the public is invited to stay for a facilitated discussion to discuss the speech and their experience reading it. Kyrouz Auditorium\, Gloucester City Hall\n\nWe hope that you can join us for this community gathering to reflect on important history and the work that still needs to be done.
X-ALT-DESC;FMTTYPE=text/html:<p>Join the Cape Ann Museum at Gloucester City Hall to celebrate Juneteenth\, the oldest nationally celebrated commemoration of the ending of slavery in the United States.</p>\n\n<p><strong>9:00 a.m. &ndash\; 9:30 a.m.</strong>&nbsp\;Flag raising with comments from city officials and CAM staff outside City Hall.</p>\n\n<p><strong>9:30 a.m. &ndash\; 11:00 a.m.</strong>&nbsp\;Community reading of Frederick Douglass&rsquo\;s&nbsp\;<em>What to the Slave is the Fourth of July?</em>&nbsp\;Following the reading the public is invited to stay for a facilitated discussion to discuss the speech and their experience reading it.&nbsp\;<strong>Kyrouz Auditorium\, Gloucester City Hall</strong></p>\n\n<p>We hope that you can join us for this community gathering to reflect on important history and the work that still needs to be done.</p>\n
LOCATION:Gloucester City Hall 9 Dale Avenue\, Gloucester\, MA 01930
UID:e.2981.46935
SEQUENCE:3
DTSTAMP:20260422T081110Z
URL:https://business.capeannchamber.com/events/details/6th-annual-gloucester-juneteenth-celebration-46935
END:VEVENT

END:VCALENDAR
