BEGIN:VCALENDAR
VERSION:2.0
PRODID:-//ChamberMaster//Event Calendar 2.0//EN
METHOD:PUBLISH
X-PUBLISHED-TTL:P3D
REFRESH-INTERVAL:P3D
CALSCALE:GREGORIAN
BEGIN:VEVENT
DTSTART:20240918T130000Z
DTEND:20240918T160000Z
X-MICROSOFT-CDO-ALLDAYEVENT:FALSE
SUMMARY:50+ Job Seekers Networking Group
DESCRIPTION:FREE Online Library 50+ Job Seeking Networking Group\n\n\n\nFor people 50 and older looking for a new job/career direction\n\n\n\nLearn skills and strategies to create a new job search tool kit\n\n\n\n35 members have found new jobs in the first six months of 2024!\n\n\n\nMeeting Features:\n\n	Topical Presentations\n	Interactive Workshops\n	Expert Guest Speakers\n	Access to Hiring Managers\n	Networking Opportunities\n	Coaching Guidance
X-ALT-DESC;FMTTYPE=text/html:FREE Online Library 50+ Job Seeking Networking Group<br>\n<br>\nFor people 50 and older looking for a new job/career direction<br>\n<br>\nLearn skills and strategies to create a new job search tool kit<br>\n<br>\n35 members have found new jobs in the first six months of 2024!<br>\n<br>\nMeeting Features:\n<ul>\n	<li>Topical Presentations</li>\n	<li>Interactive Workshops</li>\n	<li>Expert Guest Speakers</li>\n	<li>Access to Hiring Managers</li>\n	<li>Networking Opportunities</li>\n	<li>Coaching Guidance</li>\n</ul>\n
LOCATION:All meetings via Zoom
UID:e.2981.32579
SEQUENCE:3
DTSTAMP:20260420T231345Z
URL:https://business.capeannchamber.com/events/details/50-job-seekers-networking-group-09-18-2024-32579
END:VEVENT

END:VCALENDAR
