BEGIN:VCALENDAR
VERSION:2.0
PRODID:-//ChamberMaster//Event Calendar 2.0//EN
METHOD:PUBLISH
X-PUBLISHED-TTL:P3D
REFRESH-INTERVAL:P3D
CALSCALE:GREGORIAN
BEGIN:VEVENT
DTSTART:20200403T140000Z
DTEND:20200403T190000Z
X-MICROSOFT-CDO-ALLDAYEVENT:FALSE
SUMMARY:POSTPONED: Hammond Castle Museum's 45th Season Opening Day Celebration with Free Admission
DESCRIPTION:In support of efforts to mitigate the Covid 19 virus\, we are postponing our Opening Day Celebration. We look forward to selecting a new date one the health threat has subsided and welcoming you back into the museum!\n\nJoin us as we mark the start of our 45th Season with a Ribbon Cutting Ceremony at 10 am and day long celebration!\n\n\n\nIn honor of the continuation of our founder\, John Hays Hammond Jr's dream that his home and collection of artifacts serve as a museum\, we invite you to take a self guided tour of the museum at no cost from 10 am to 3 pm! \n\n\n\nOur 2020 Season schedule has been extended to offer more opportunities to visit the historic site including weekends in April\, November\, and December. For the first time\, we will open daily in May! \n\n\n\n  April: Open Fridays\, Saturdays & Sundays from 10 am to 3 pm\n\n  May through October: Open Daily from 10 am to 4 pm\n\n  November and December: Open Fridays\, Saturdays &  Sundays from 10 am to 3 pm
X-ALT-DESC;FMTTYPE=text/html:<span style="color:rgb(29\, 33\, 41)\; font-family:helvetica\,arial\,sans-serif\; font-size:14px">In support of efforts to mitigate the Covid 19 virus\, we are postponing our Opening Day Celebration. We look forward to selecting a new date one the health threat has subsided and welcoming you back into the museum!<br />\nJoin us as we mark the start of our 45<sup>th</sup> Season with a Ribbon Cutting Ceremony at 10 am and day long celebration!</span><br />\n<br />\n<span style="color:rgb(29\, 33\, 41)\; font-family:helvetica\,arial\,sans-serif\; font-size:14px">In honor of the continuation of our founder\, John Hays Hammond Jr&rsquo\;s dream that his home and collection of artifacts serve as a museum\, we invite you to take a self guided tour of the museum at no cost from 10 am to 3 pm! </span><br />\n<br />\n<span style="color:rgb(29\, 33\, 41)\; font-family:helvetica\,arial\,sans-serif\; font-size:14px">Our 2020 Season schedule has been extended to offer more opportunities to visit the historic site including weekends in April\, November\, and December. For the first time\, we will open daily in May! </span><br />\n<br />\n<span style="color:rgb(29\, 33\, 41)\; font-family:helvetica\,arial\,sans-serif\; font-size:14px">&bull\; April: Open Fridays\, Saturdays &amp\; Sundays from 10 am to 3 pm</span><br />\n<span style="color:rgb(29\, 33\, 41)\; font-family:helvetica\,arial\,sans-serif\; font-size:14px">&bull\; May through October: Open Daily from 10 am to 4 pm</span><br />\n<span style="color:rgb(29\, 33\, 41)\; font-family:helvetica\,arial\,sans-serif\; font-size:14px">&bull\; November and December: Open Fridays\, Saturdays &amp\;&nbsp\;&nbsp\;Sundays from 10 am to 3 pm</span>
LOCATION:Hammond Castle Museum 80 Hesperus Avenue Gloucester\, MA 10930
UID:e.2981.19377
SEQUENCE:3
DTSTAMP:20260426T041035Z
URL:https://business.capeannchamber.com/events/details/45th-season-opening-day-celebration-free-admission-19377
END:VEVENT

END:VCALENDAR
