BEGIN:VCALENDAR
VERSION:2.0
PRODID:-//ChamberMaster//Event Calendar 2.0//EN
METHOD:PUBLISH
X-PUBLISHED-TTL:P3D
REFRESH-INTERVAL:P3D
CALSCALE:GREGORIAN
BEGIN:VEVENT
DTSTART:20211216T150000Z
DTEND:20211217T010000Z
X-MICROSOFT-CDO-ALLDAYEVENT:FALSE
SUMMARY:45th Annual "Men's Night" All Day on Main Street Gloucester
DESCRIPTION:Gentleman\, see something for your special someone or family member but couldn't purchase with them watching? Historic downtown stays open for you to pick up your gifts at a discount\, and enjoy some refreshments too\; this day on Main Street is just for you!
X-ALT-DESC;FMTTYPE=text/html:<p style="margin: 0in 7.3pt 0pt 12.25pt\; line-height: 14.85pt\; text-align: justify\;"><span font-size:="" style="color: rgb(35\, 31\, 32)\; font-family: Calibri\, ">Gentleman\, see something for your special someone or family member but couldn&rsquo\;t purchase with them watching? Historic downtown stays open&nbsp\;for you to pick up your gifts at a discount\, and enjoy some refreshments too\; this day on Main Street is just for you!</span></p>\n
LOCATION:Main Street Gloucester\, MA 01930
UID:e.2981.21467
SEQUENCE:3
DTSTAMP:20260424T131628Z
URL:https://business.capeannchamber.com/events/details/45th-annual-men-s-night-all-day-on-main-street-gloucester-21467
END:VEVENT

END:VCALENDAR
