BEGIN:VCALENDAR
VERSION:2.0
PRODID:-//ChamberMaster//Event Calendar 2.0//EN
METHOD:PUBLISH
X-PUBLISHED-TTL:P3D
REFRESH-INTERVAL:P3D
CALSCALE:GREGORIAN
BEGIN:VEVENT
DTSTART;VALUE=DATE:20211009
DTEND;VALUE=DATE:20211011
TRANSP:TRANSPARENT
X-MICROSOFT-CDO-ALLDAYEVENT:TRUE
SUMMARY:38th Annual Cape Ann Artisans Fall Tour
DESCRIPTION:Visit 14 juried artisan studios and meet 15 of Cape Ann's most established makers during the 38th Bi-Annual Cape Ann Artisan Open Studios self-guided tour on Saturday and Sunday\, October 9 &10\, 10 a.m.-5 p.m. Map your visit following the magenta symbols on the Cape Ann Chamber map\, the Artisans downloadable map on CapeAnnArtisans.com and the large pink flags near each location in Gloucester and Rockport. Enjoy pottery\, painting\, sculpture\, mixed media\, mosaics\, quilting\, weaving\, sea glass and fine jewelry art. Visit individual artist websites for year-round hours and appointments.
X-ALT-DESC;FMTTYPE=text/html:<span style="font-family:arial\,sans-serif\;"><span style="font-size:10.0pt\;">Visit</span></span><span style="font-family:arial\,sans-serif\;"><span style="font-size:10.0pt\;"> 14 </span></span><span style="font-family:arial\,sans-serif\;"><span style="font-size:10.0pt\;">juried</span></span> <span style="font-family:arial\,sans-serif\;"><span style="font-size:10.0pt\;">artisan</span></span> <span style="font-family:arial\,sans-serif\;"><span style="font-size:10.0pt\;">studios</span></span> <span style="font-family:arial\,sans-serif\;"><span style="font-size:10.0pt\;">and</span></span> <span style="font-family:arial\,sans-serif\;"><span style="font-size:10.0pt\;">meet</span></span><span style="font-family:arial\,sans-serif\;"><span style="font-size:10.0pt\;"> 15 </span></span><span style="font-family:arial\,sans-serif\;"><span style="font-size:10.0pt\;">of</span></span> <span style="font-family:arial\,sans-serif\;"><span style="font-size:10.0pt\;">Cape</span></span> <span style="font-family:arial\,sans-serif\;"><span style="font-size:10.0pt\;">Ann</span></span><span style="font-family:arial\,sans-serif\;"><span style="font-size:10.0pt\;">&rsquo\;</span></span><span style="font-family:arial\,sans-serif\;"><span style="font-size:10.0pt\;">s</span></span> <span style="font-family:arial\,sans-serif\;"><span style="font-size:10.0pt\;">most</span></span> <span style="font-family:arial\,sans-serif\;"><span style="font-size:10.0pt\;">established</span></span> <span style="font-family:arial\,sans-serif\;"><span style="font-size:10.0pt\;">makers</span></span> <span style="font-family:arial\,sans-serif\;"><span style="font-size:10.0pt\;">during</span></span> <span style="font-family:arial\,sans-serif\;"><span style="font-size:10.0pt\;">the</span></span><span style="font-family:arial\,sans-serif\;"><span style="font-size:10.0pt\;"> 38</span></span><span style="font-family:arial\,sans-serif\;"><span style="font-size:10.0pt\;">th</span></span> <span style="font-family:arial\,sans-serif\;"><span style="font-size:10.0pt\;">Bi</span></span><span style="font-family:arial\,sans-serif\;"><span style="font-size:10.0pt\;">-</span></span><span style="font-family:arial\,sans-serif\;"><span style="font-size:10.0pt\;">Annual</span></span> <span style="font-family:arial\,sans-serif\;"><span style="font-size:10.0pt\;">Cape</span></span> <span style="font-family:arial\,sans-serif\;"><span style="font-size:10.0pt\;">Ann</span></span> <span style="font-family:arial\,sans-serif\;"><span style="font-size:10.0pt\;">Artisan</span></span> <span style="font-family:arial\,sans-serif\;"><span style="font-size:10.0pt\;">Open</span></span> <span style="font-family:arial\,sans-serif\;"><span style="font-size:10.0pt\;">Studios</span></span> <span style="font-family:arial\,sans-serif\;"><span style="font-size:10.0pt\;">self</span></span><span style="font-family:arial\,sans-serif\;"><span style="font-size:10.0pt\;">-</span></span><span style="font-family:arial\,sans-serif\;"><span style="font-size:10.0pt\;">guided</span></span> <span style="font-family:arial\,sans-serif\;"><span style="font-size:10.0pt\;">tour</span></span> <span style="font-family:arial\,sans-serif\;"><span style="font-size:10.0pt\;">on</span></span> <span style="font-family:arial\,sans-serif\;"><span style="font-size:10.0pt\;">Sat</span></span><span style="font-family:arial\,sans-serif\;"><span style="font-size:10.0pt\;">urday and </span></span><span style="font-family:arial\,sans-serif\;"><span style="font-size:10.0pt\;">Sunday\,</span></span> <span style="font-family:arial\,sans-serif\;"><span style="font-size:10.0pt\;">October</span></span><span style="font-family:arial\,sans-serif\;"><span style="font-size:10.0pt\;"> 9 &amp\;10\, 10 a.m.-5 </span></span><span style="font-family:arial\,sans-serif\;"><span style="font-size:10.0pt\;">p.m</span></span><span style="font-family:arial\,sans-serif\;"><span style="font-size:10.0pt\;">. </span></span><span style="font-family:arial\,sans-serif\;"><span style="font-size:10.0pt\;">Map</span></span> <span style="font-family:arial\,sans-serif\;"><span style="font-size:10.0pt\;">your</span></span> <span style="font-family:arial\,sans-serif\;"><span style="font-size:10.0pt\;">visit</span></span> <span style="font-family:arial\,sans-serif\;"><span style="font-size:10.0pt\;">following</span></span> <span style="font-family:arial\,sans-serif\;"><span style="font-size:10.0pt\;">the</span></span> <span style="font-family:arial\,sans-serif\;"><span style="font-size:10.0pt\;">magenta</span></span> <span style="font-family:arial\,sans-serif\;"><span style="font-size:10.0pt\;">symbols</span></span> <span style="font-family:arial\,sans-serif\;"><span style="font-size:10.0pt\;">on</span></span> <span style="font-family:arial\,sans-serif\;"><span style="font-size:10.0pt\;">the</span></span> <span style="font-family:arial\,sans-serif\;"><span style="font-size:10.0pt\;">Cape</span></span> <span style="font-family:arial\,sans-serif\;"><span style="font-size:10.0pt\;">Ann</span></span> <span style="font-family:arial\,sans-serif\;"><span style="font-size:10.0pt\;">Chamber</span></span> <span style="font-family:arial\,sans-serif\;"><span style="font-size:10.0pt\;">map</span></span><span style="font-family:arial\,sans-serif\;"><span style="font-size:10.0pt\;">\, </span></span><span style="font-family:arial\,sans-serif\;"><span style="font-size:10.0pt\;">the</span></span> <span style="font-family:arial\,sans-serif\;"><span style="font-size:10.0pt\;">Artisans</span></span> <span style="font-family:arial\,sans-serif\;"><span style="font-size:10.0pt\;">downloadable</span></span> <span style="font-family:arial\,sans-serif\;"><span style="font-size:10.0pt\;">map</span></span> <span style="font-family:arial\,sans-serif\;"><span style="font-size:10.0pt\;">on</span></span> <span style="font-family:arial\,sans-serif\;"><span style="font-size:10.0pt\;">CapeAnnArtisans</span></span><span style="font-family:arial\,sans-serif\;"><span style="font-size:10.0pt\;">.</span></span><span style="font-family:arial\,sans-serif\;"><span style="font-size:10.0pt\;">com</span></span> <span style="font-family:arial\,sans-serif\;"><span style="font-size:10.0pt\;">and</span></span> <span style="font-family:arial\,sans-serif\;"><span style="font-size:10.0pt\;">the</span></span> <span style="font-family:arial\,sans-serif\;"><span style="font-size:10.0pt\;">large</span></span> <span style="font-family:arial\,sans-serif\;"><span style="font-size:10.0pt\;">pink</span></span> <span style="font-family:arial\,sans-serif\;"><span style="font-size:10.0pt\;">flags</span></span> <span style="font-family:arial\,sans-serif\;"><span style="font-size:10.0pt\;">near</span></span> <span style="font-family:arial\,sans-serif\;"><span style="font-size:10.0pt\;">each</span></span> <span style="font-family:arial\,sans-serif\;"><span style="font-size:10.0pt\;">location</span></span> <span style="font-family:arial\,sans-serif\;"><span style="font-size:10.0pt\;">in</span></span> <span style="font-family:arial\,sans-serif\;"><span style="font-size:10.0pt\;">Gloucester</span></span> <span style="font-family:arial\,sans-serif\;"><span style="font-size:10.0pt\;">and</span></span> <span style="font-family:arial\,sans-serif\;"><span style="font-size:10.0pt\;">Rockport</span></span><span style="font-family:arial\,sans-serif\;"><span style="font-size:10.0pt\;">. </span></span><span style="font-family:arial\,sans-serif\;"><span style="font-size:10.0pt\;">Enjoy</span></span> <span style="font-family:arial\,sans-serif\;"><span style="font-size:10.0pt\;">pottery</span></span><span style="font-family:arial\,sans-serif\;"><span style="font-size:10.0pt\;">\, </span></span><span style="font-family:arial\,sans-serif\;"><span style="font-size:10.0pt\;">painting</span></span><span style="font-family:arial\,sans-serif\;"><span style="font-size:10.0pt\;">\, </span></span><span style="font-family:arial\,sans-serif\;"><span style="font-size:10.0pt\;">sculpture</span></span><span style="font-family:arial\,sans-serif\;"><span style="font-size:10.0pt\;">\, </span></span><span style="font-family:arial\,sans-serif\;"><span style="font-size:10.0pt\;">mixed</span></span> <span style="font-family:arial\,sans-serif\;"><span style="font-size:10.0pt\;">media</span></span><span style="font-family:arial\,sans-serif\;"><span style="font-size:10.0pt\;">\, </span></span><span style="font-family:arial\,sans-serif\;"><span style="font-size:10.0pt\;">mosaics</span></span><span style="font-family:arial\,sans-serif\;"><span style="font-size:10.0pt\;">\, </span></span><span style="font-family:arial\,sans-serif\;"><span style="font-size:10.0pt\;">quilting</span></span><span style="font-family:arial\,sans-serif\;"><span style="font-size:10.0pt\;">\, </span></span><span style="font-family:arial\,sans-serif\;"><span style="font-size:10.0pt\;">weaving</span></span><span style="font-family:arial\,sans-serif\;"><span style="font-size:10.0pt\;">\, </span></span><span style="font-family:arial\,sans-serif\;"><span style="font-size:10.0pt\;">sea</span></span> <span style="font-family:arial\,sans-serif\;"><span style="font-size:10.0pt\;">glass</span></span> <span style="font-family:arial\,sans-serif\;"><span style="font-size:10.0pt\;">and</span></span> <span style="font-family:arial\,sans-serif\;"><span style="font-size:10.0pt\;">fine</span></span> <span style="font-family:arial\,sans-serif\;"><span style="font-size:10.0pt\;">jewelry</span></span> <span style="font-family:arial\,sans-serif\;"><span style="font-size:10.0pt\;">art</span></span><span style="font-family:arial\,sans-serif\;"><span style="font-size:10.0pt\;">. Visit </span></span><span style="font-family:arial\,sans-serif\;"><span style="font-size:10.0pt\;">individual</span></span> <span style="font-family:arial\,sans-serif\;"><span style="font-size:10.0pt\;">artist</span></span> <span style="font-family:arial\,sans-serif\;"><span style="font-size:10.0pt\;">websites</span></span> <span style="font-family:arial\,sans-serif\;"><span style="font-size:10.0pt\;">for</span></span><span style="font-family:arial\,sans-serif\;"><span style="font-size:10.0pt\;"> year-round </span></span><span style="font-family:arial\,sans-serif\;"><span style="font-size:10.0pt\;">hours</span></span> <span style="font-family:arial\,sans-serif\;"><span style="font-size:10.0pt\;">and</span></span> <span style="font-family:arial\,sans-serif\;"><span style="font-size:10.0pt\;">appointments.</span></span>
LOCATION:
UID:e.2981.21041
SEQUENCE:3
DTSTAMP:20260424T105602Z
URL:https://business.capeannchamber.com/events/details/38th-annual-cape-ann-artisans-fall-tour-21041
END:VEVENT

END:VCALENDAR
