BEGIN:VCALENDAR
VERSION:2.0
PRODID:-//ChamberMaster//Event Calendar 2.0//EN
METHOD:PUBLISH
X-PUBLISHED-TTL:P3D
REFRESH-INTERVAL:P3D
CALSCALE:GREGORIAN
BEGIN:VEVENT
DTSTART:20260518T150000Z
DTEND:20260518T230000Z
X-MICROSOFT-CDO-ALLDAYEVENT:FALSE
SUMMARY:37th Annual Business Education and Scholarship Golf Tournament 2026
DESCRIPTION:The Greater Cape Ann Chamber of Commerce Business Education and Scholarship Golf Tournament\, an annual fundraising event to support the Chamber's education mission\, is scheduled for Monday\, May 18th at Bass Rocks Golf Club.\n\n\n\nThe net proceeds of this event fund the Chamber's extensive work with the five Greater Cape Ann high schools\, Essex Tech and education non-profits. Our Business Education programming includes: monthly collaboration with all schools and education non-profits\, DECA support\, intern and mentorships\, Career & Collage Fairs and several scholarships. In addition to the Greater Cape Ann Chamber of Commerce Scholarship\, the Chamber awards five scholarships named in honor of past leaders: Mike Costello\, Sylvester (Red) Deering\, Rudy Macchi\, Patricia Roy D'Alelio and William (Bill) Scott. The Scholarship Winners will be presented their awards during the Post-Tournament Awards Banquet.\n\n\n\nYour sponsorship will provide exposure to over 100 area business owners\, senior business leaders\, and elected officials.
X-ALT-DESC;FMTTYPE=text/html:The Greater Cape Ann Chamber of Commerce Business Education and Scholarship Golf Tournament\, an annual fundraising event to support the Chamber&#39\;s education mission\, is scheduled for Monday\, May 18th at Bass Rocks Golf Club.<br />\n<br />\nThe net proceeds of this event fund the Chamber&#39\;s extensive work with the five Greater Cape Ann high schools\, Essex Tech and education non-profits. Our Business Education programming includes: monthly collaboration with all schools and education non-profits\, DECA support\, intern and mentorships\, Career &amp\; Collage Fairs and several scholarships. In addition to the Greater Cape Ann Chamber of Commerce Scholarship\, the Chamber awards five scholarships named in honor of past leaders: Mike Costello\, Sylvester (Red) Deering\, Rudy Macchi\, Patricia Roy D&#39\;Alelio and William (Bill) Scott. The Scholarship Winners will be presented their awards during the Post-Tournament Awards Banquet.<br />\n<br />\n<span style="color:black\;"><span style="font-family:arial\,sans-serif\;">Your sponsorship will provide exposure to over 100 area business owners\, senior business leaders\, and elected officials.</span></span><br />\n<br />\n&nbsp\;
LOCATION:Bass Rocks Golf Club
UID:e.2981.36687
SEQUENCE:3
DTSTAMP:20260426T030648Z
URL:https://business.capeannchamber.com/events/details/37th-annual-business-education-and-scholarship-golf-tournament-2026-36687
END:VEVENT

END:VCALENDAR
