BEGIN:VCALENDAR
VERSION:2.0
PRODID:-//ChamberMaster//Event Calendar 2.0//EN
METHOD:PUBLISH
X-PUBLISHED-TTL:P3D
REFRESH-INTERVAL:P3D
CALSCALE:GREGORIAN
BEGIN:VEVENT
DTSTART:20211110T220000Z
DTEND:20211111T030000Z
X-MICROSOFT-CDO-ALLDAYEVENT:FALSE
SUMMARY:34th Annual Love Cape Ann Fundraising Auction
DESCRIPTION:We Love Cape Ann and work hard to help support our Community in many ways.  Your generous bidding will help the Chamber build for the future of this special place where we live\, work and play.\n\n\n\nLive Auction/Silent Auction\n\nFund the Future Paddle Raise\n\nPlentiful Hors D'oeuvres\n\nBid high. Compete for fascinating experiences. Go on a Safari. Discover your next piece of art. Nosh on delightful hors d'oeuvres. Experience professional auctioneer Jay Cash. Meet up with old friends. Make new friends. Help us fund the future of Cape Ann!\n\n\n\nProceeds benefit the Chamber's work to support Cape Ann through business and regional promotion\, economic growth\, educational enrichment and community events.\n\n\n\n                    Join us and share your love for Cape Ann! Just follow this link to get started! \n\n                                                https://cacc2021.ggo.bid\n\n\n\nThank you to our Sponsors\n\nPresenting: The Fish Shack Restaurant \n\nPlatinum: Beauport Hospitality Group\, Institution for Savings\n\nGold: BankGloucester\, Brookline Bank\, Engel & Volkers\n\nSilver: Applied Materials\, Cape Ann Savings Bank\, Intershell Seafood Corporation\, Johnson O'Connor\, Manchester Athletic Club\, Seaglass Law & Mediation\n\nBronze: Beauport Law\, LLC\, Caroll K. Steele Insurance Agency\, Inc.\, Cazeault Solar\, Horvitz & Frishch\, P.C.\, Style Snoop by the Sea\n\nSupporting: Addison Gilbert Hospital | Americold | Bearskin Neck Bistro | Cape Ann Law | Cape Ann Marketplace | Cape Ann Whale Watch | Gove and Feldman Insurance Agency | Hammer in Hand | James C. Greely Funeral Service\, Inc. | Jon & Carol Morse | Seafarer Inn|  Sudbay Chevrolet\, Buick\, Cadillac\, GMC | Sudbay Chrysler\, Dodge\, Jeep\, Inc.
X-ALT-DESC;FMTTYPE=text/html:We Love Cape Ann and work hard to help support our Community in many ways.&nbsp\; Your generous bidding will help the Chamber build for the future of this special place where we live\, work and play.<br />\n<br />\nLive Auction/Silent Auction<br />\nFund the Future Paddle Raise<br />\nPlentiful Hors D&#39\;oeuvres<br />\nBid high. Compete for fascinating experiences. Go on a Safari. Discover your next piece of art. Nosh on delightful hors d&#39\;oeuvres. Experience professional auctioneer Jay Cash. Meet up with old friends. Make new friends. Help us fund the future of Cape Ann!<br />\n<br />\nProceeds benefit the Chamber&#39\;s work to support Cape Ann through business and regional promotion\, economic growth\, educational enrichment and community events.<br />\n<br />\n&nbsp\;&nbsp\;&nbsp\;&nbsp\;&nbsp\;&nbsp\;&nbsp\;&nbsp\;&nbsp\;&nbsp\;&nbsp\;&nbsp\;&nbsp\;&nbsp\;&nbsp\;&nbsp\;&nbsp\;&nbsp\;&nbsp\;&nbsp\;Join us and share your love for Cape Ann! Just follow this link to get started!&nbsp\;<br />\n&nbsp\;&nbsp\;&nbsp\;&nbsp\;&nbsp\;&nbsp\;&nbsp\;&nbsp\;&nbsp\;&nbsp\;&nbsp\;&nbsp\;&nbsp\;&nbsp\;&nbsp\;&nbsp\;&nbsp\;&nbsp\;&nbsp\;&nbsp\;&nbsp\;&nbsp\;&nbsp\;&nbsp\;&nbsp\;&nbsp\;&nbsp\;&nbsp\;&nbsp\;&nbsp\;&nbsp\;&nbsp\;&nbsp\;&nbsp\;&nbsp\;&nbsp\;&nbsp\;&nbsp\;&nbsp\;&nbsp\;&nbsp\;&nbsp\;&nbsp\;&nbsp\;&nbsp\;&nbsp\;&nbsp\;&nbsp\;<a href="https://cacc2021.ggo.bid">https://cacc2021.ggo.bid</a><br />\n<br />\nThank you to our Sponsors<br />\nPresenting: <a href="http://www.facebook.com/roymoorefishshack/">The Fish Shack Restaurant</a>&nbsp\;<br />\nPlatinum: <a href="https://beauporthospitalitygroup.com/">Beauport Hospitality&nbsp\;Group</a>\, <a href="https://www.institutionforsavings.com/">Institution for Savings</a><br />\n<strong>Gold</strong>: <a href="https://www.bankgloucester.com/">Bank<em>Gloucester</em></a>\, <a href="https://brooklinebank.com/servicecenter/locations/ipswich-branch">Brookline Bank</a>\, <a href="https://bythesea.evrealestate.com/">Engel &amp\; Volkers</a><br />\n<strong>Silver</strong>: Applied Materials\, Cape Ann Savings Bank\, Intershell Seafood Corporation\, Johnson O&#39\;Connor\, Manchester Athletic Club\, Seaglass Law &amp\; Mediation<br />\n<strong>Bronze</strong>: Beauport Law\, LLC\, Caroll K. Steele Insurance Agency\, Inc.\, Cazeault Solar\, Horvitz &amp\; Frishch\, P.C.\, Style Snoop by the Sea<br />\n<strong>Supporting</strong>: Addison Gilbert Hospital | Americold | Bearskin Neck Bistro | Cape Ann Law | Cape Ann Marketplace | Cape Ann Whale Watch | Gove and Feldman Insurance Agency | Hammer in Hand | James C. Greely Funeral Service\, Inc. | Jon &amp\; Carol Morse | Seafarer Inn|&nbsp\; Sudbay Chevrolet\, Buick\, Cadillac\, GMC | Sudbay Chrysler\, Dodge\, Jeep\, Inc.<br />\n&nbsp\;
LOCATION:The Beauport Hotel 55 Commercial Street Gloucester
UID:e.2981.20908
SEQUENCE:3
DTSTAMP:20260424T123645Z
URL:https://business.capeannchamber.com/events/details/34th-annual-love-cape-ann-fundraising-auction-20908
END:VEVENT

END:VCALENDAR
