BEGIN:VCALENDAR
VERSION:2.0
PRODID:-//ChamberMaster//Event Calendar 2.0//EN
METHOD:PUBLISH
X-PUBLISHED-TTL:P3D
REFRESH-INTERVAL:P3D
CALSCALE:GREGORIAN
BEGIN:VEVENT
DTSTART:20250822T190000Z
DTEND:20250822T200000Z
X-MICROSOFT-CDO-ALLDAYEVENT:FALSE
SUMMARY:30th Anniversary Ribbon Cutting Ceremony for Choice Graphics
DESCRIPTION:Join Us for Choice Graphics' 30th Anniversary Celebration!\n\n\nRibbon Cutting Ceremony & Open House\n\nHelp us celebrate three decades of excellence in graphic design and printing services! Choice Graphics of Rowley is thrilled to invite the community to commemorate their 30th anniversary with a ribbon cutting ceremony and open house. Join us as we mark this incredible milestone. The celebration kicks off at 3:00 PM with the official ribbon cutting ceremony\, followed by an open house featuring facility tours and the opportunity to meet their talented team.\n\nCome discover how Choice Graphics has been serving the North Shore community for 30 years with innovative design solutions\, high-quality printing services\, and exceptional customer care. Founded by Keith and Christina Harris\, their business is built around partnership\, integrity and service - a philosophy reflected in their original corporate tagline: Choose more than a printer Choose a partner. It worked then\, and it still works 30 years later.\n\nWhether you're a longtime client or new to their services\, they'd love to show you what makes Choice Graphics your trusted partner for all your graphic design and printing needs.\n\nWe look forward to celebrating this special anniversary with you!
X-ALT-DESC;FMTTYPE=text/html:<h1 style="color: rgb(64\, 63\, 66)\; font-family: Arial\, Verdana\, Helvetica\, sans-serif\; font-size: 12px\; white-space: pre-wrap\;"><span style="font-size:20px\;"><span style="font-family:arial\;">Join Us for Choice Graphics&#39\; 30th Anniversary Celebration!</span></span></h1>\n\n<div style="font-family: Arial\, Verdana\, Helvetica\, sans-serif\; white-space: pre-wrap\;">\n<p class="whitespace-normal break-words"><span style="font-size:16px\;"><span style="font-family:arial\;"><strong>Ribbon Cutting Ceremony &amp\; Open House</strong></span></span></p>\n\n<p class="whitespace-normal break-words"><span style="font-size:16px\;"><span style="font-family:arial\;">Help us celebrate three decades of excellence in graphic design and printing services! Choice Graphics of Rowley is thrilled to invite the community to commemorate their 30th anniversary with a ribbon cutting ceremony and open house. Join us as we mark this incredible milestone. The celebration kicks off at 3:00 PM with the official ribbon cutting ceremony\, followed by an open house featuring facility tours and the opportunity to meet their talented team.</span></span><br />\n<span style="font-size:16px\;"><span style="font-family:arial\;">Come discover how Choice Graphics has been serving the North Shore community for 30 years with innovative design solutions\, high-quality printing services\, and exceptional customer care. Founded by Keith and Christina Harris\, their business is built around partnership\, integrity and service - a philosophy reflected in their original corporate tagline: <em>Choose more than a printer&hellip\;Choose a partner</em>. It worked then\, and it still works 30 years later.<br />\nWhether you&#39\;re a longtime client or new to their services\, they&#39\;d love to show you what makes Choice Graphics your trusted partner for all your graphic design and printing needs.</span></span><br />\n<span style="font-size:16px\;"><span style="font-family:arial\;">We look forward to celebrating this special anniversary with you!</span></span></p>\n\n<p class="whitespace-normal break-words"><br />\n&nbsp\;</p>\n</div>\n\n<div style="color: rgb(64\, 63\, 66)\; font-family: Arial\, Verdana\, Helvetica\, sans-serif\; font-size: 12px\; white-space: pre-wrap\;">&nbsp\;</div>\n
LOCATION:Choice Graphics 140 Central Street Rowley\, MA
UID:e.2981.37447
SEQUENCE:3
DTSTAMP:20260424T235700Z
URL:https://business.capeannchamber.com/events/details/30th-anniversary-ribbon-cutting-ceremony-for-choice-graphics-37447
END:VEVENT

END:VCALENDAR
