BEGIN:VCALENDAR
VERSION:2.0
PRODID:-//ChamberMaster//Event Calendar 2.0//EN
METHOD:PUBLISH
X-PUBLISHED-TTL:P3D
REFRESH-INTERVAL:P3D
CALSCALE:GREGORIAN
BEGIN:VEVENT
DTSTART:20250918T180000Z
DTEND:20250918T190000Z
X-MICROSOFT-CDO-ALLDAYEVENT:FALSE
SUMMARY:25th Anniversary Ribbon Cutting Ceremony at Common Crow Natural Market
DESCRIPTION:Celebrate 25 years of Common Crow!\n\nPlease join us for a special Ribbon Cutting Ceremony to mark Common Crow Natural Market's 25th Anniversary. Congratulate the team and help kick off their milestone celebration. Come back again for even more festivities on Saturday\, September 20th for CROWFEST!
X-ALT-DESC;FMTTYPE=text/html:<div style="color: rgb(64\, 63\, 66)\; font-family: Arial\, Verdana\, Helvetica\, sans-serif\; font-size: 12px\; white-space: pre-wrap\;"><span style="font-size: 18px\;"><strong><span style="color: rgb(128\, 0\, 0)\;">Celebrate 25 years of Common Crow!</span></strong></span><br />\n<span style="font-size:16px\;"><span style="font-family:arial\;">Please join us for a special Ribbon Cutting Ceremony to mark <a href="http://www.commoncrow.com/" target="_blank">Common Crow Natural Market&rsquo\;s</a> 25th Anniversary. Congratulate the team and help kick off their milestone celebration. Come back again for even more festivities on Saturday\, September 20th for CROWFEST! </span></span></div>\n
LOCATION:Common Crow Natural Market
UID:e.2981.42989
SEQUENCE:3
DTSTAMP:20260422T091702Z
URL:https://business.capeannchamber.com/events/details/25th-anniversary-ribbon-cutting-ceremony-at-common-crow-natural-market-42989
END:VEVENT

END:VCALENDAR
