BEGIN:VCALENDAR
VERSION:2.0
PRODID:-//ChamberMaster//Event Calendar 2.0//EN
METHOD:PUBLISH
X-PUBLISHED-TTL:P3D
REFRESH-INTERVAL:P3D
CALSCALE:GREGORIAN
BEGIN:VEVENT
DTSTART:20241026T140000Z
DTEND:20241026T200000Z
X-MICROSOFT-CDO-ALLDAYEVENT:FALSE
SUMMARY:25th Anniversary Open House\, Olde Ipswich Shop & Gallery
DESCRIPTION:All WELCOME to our 25th Anniversary Celebration and Sale. Join in the fun. Sale on everything but Johanne's original art\, prints and art products. Refreshments. \n\nOlde Ipswich Shop & Gallery \n\n83 County Road\, Ipswich\, MA\n\n10-4pm Saturday\, October 26\, 2024
X-ALT-DESC;FMTTYPE=text/html:<p>All WELCOME to our 25th Anniversary Celebration and Sale. Join in the fun. Sale on everything but Johanne&rsquo\;s original art\, prints and art products. Refreshments.&nbsp\;</p>\n\n<p>Olde Ipswich Shop &amp\; Gallery&nbsp\;<br />\n83 County Road\, Ipswich\, MA<br />\n10-4pm Saturday\, October 26\, 2024</p>\n
LOCATION:Olde Ipswich Shop & Gallery 83 County Road Ipswich\, MA
UID:e.2981.33101
SEQUENCE:3
DTSTAMP:20260424T140541Z
URL:https://business.capeannchamber.com/events/details/25th-anniversary-open-house-olde-ipswich-shop-gallery-33101
END:VEVENT

END:VCALENDAR
