BEGIN:VCALENDAR
VERSION:2.0
PRODID:-//ChamberMaster//Event Calendar 2.0//EN
METHOD:PUBLISH
X-PUBLISHED-TTL:P3D
REFRESH-INTERVAL:P3D
CALSCALE:GREGORIAN
BEGIN:VEVENT
DTSTART:20201015T210000Z
DTEND:20201015T213000Z
X-MICROSOFT-CDO-ALLDAYEVENT:FALSE
SUMMARY:$25K Game
DESCRIPTION:A total of $25\,000 is given away\, including a Grand Prize of $10\,000! Tickets are $100 each and are almost out! Call or visit the Chamber to get yours. Best of luck to all contestants! \n\n\n\nWe are grateful to our Gold Sponsor\, Engel & V lkers- By The Sea\n\nhttps://bythesea.evrealestate.com/
X-ALT-DESC;FMTTYPE=text/html:A total of $25\,000 is given away\, including a Grand Prize of $10\,000! Tickets are $100 each and are almost out! Call or visit the Chamber to get yours. Best of luck to all contestants!&nbsp\;<br />\n<br />\nWe are grateful to our Gold Sponsor\, Engel &amp\; V<span style="font-family:calibri\,sans-serif\;"><span style="font-size:11.0pt\;">&ouml\;</span></span>lkers- By The Sea<br />\nhttps://bythesea.evrealestate.com/&nbsp\;
LOCATION:Virtual event via Facebook Live https://fb.me/e/34p3y7zSi
UID:e.2981.20024
SEQUENCE:3
DTSTAMP:20260421T030550Z
URL:https://business.capeannchamber.com/events/details/25k-game-20024
END:VEVENT

END:VCALENDAR
